Back to the "Multiple platform build/check report"
| Package 167/188 | OS | Arch | BUILD | CHECK | BUILD BIN |
simulatorAPMS1.6.0Tony Chiang | Linux (SUSE 9.2) | x86_64 | OK | OK | |
| Linux (SUSE 9.2) | i686 | OK | [ OK ] | ||
| Solaris 2.9 | sparc | OK | OK | ||
| Windows Server 2003 | x86_64 | OK | OK | OK |
| Package: simulatorAPMS |
| Version: 1.6.0 |
| Command: /loc/biocbuild/1.9d/R/bin/R CMD check simulatorAPMS_1.6.0.tar.gz |
| RetCode: 0 |
| Time: 440.1 seconds |
| Status: OK |
| CheckDir: simulatorAPMS.Rcheck |
| Warnings: 0 |
* checking for working latex ... OK * using log directory '/extra/loc/biocbuild/1.9d/Rpacks/simulatorAPMS.Rcheck' * using R version 2.4.0 (2006-10-03) * checking for file 'simulatorAPMS/DESCRIPTION' ... OK * this is package 'simulatorAPMS' version '1.6.0' * checking package dependencies ... OK * checking if this is a source package ... OK * checking whether package 'simulatorAPMS' can be installed ... OK * checking package directory ... OK * checking for portable file names ... OK * checking for sufficient/correct file permissions ... OK * checking DESCRIPTION meta-information ... OK * checking top-level files ... OK * checking index information ... OK * checking package subdirectories ... OK * checking R files for syntax errors ... OK * checking R files for non-ASCII characters ... OK * checking whether the package can be loaded ... OK * checking whether the package can be loaded with stated dependencies ... OK * checking S3 generic/method consistency ... OK * checking replacement functions ... OK * checking foreign function calls ... OK * checking R code for possible problems ... OK * checking Rd files ... OK * checking Rd cross-references ... OK * checking for missing documentation entries ... OK * checking for code/documentation mismatches ... OK * checking Rd \usage sections ... OK * creating simulatorAPMS-Ex.R ... OK * checking examples ... OK * checking package vignettes in 'inst/doc' ... OK * creating simulatorAPMS-manual.tex ... OK * checking simulatorAPMS-manual.tex ... OK
simulatorAPMS.Rcheck/00install.out:
* Installing *source* package 'simulatorAPMS' ...
** R
** data
** inst
** help
>>> Building/Updating help pages for package 'simulatorAPMS'
Formats: text html latex example
APComEX text html latex example
PPIEX text html latex example
TSNMatrix text html latex example
applyDeformationError text html latex example
applyFNErrors text html latex example
applyFPErrors text html latex example
applyStickyError text html latex example
compIndep text html latex example
filteredProt text html latex example
fullSimEX text html latex example
missedProtEX text html latex example
missedProtHMSPCI text html latex example
recordSticky text html latex example
runAPComplex text html latex example
runCompIndep text html latex example
runSimEX text html latex example
runSimulators text html latex example
simEX text html latex example
simulator text html latex example
simulatorD text html latex example
simulatorS text html latex example
vBaits text html latex example
vBaitsEX text html latex example
vDeformEX text html latex example
vDeformed text html latex example
vDeformedEX text html latex example
vStickyEX text html latex example
** building package indices ...
* DONE (simulatorAPMS)