* checking for file 'lapmix/DESCRIPTION' ... OK
* preparing 'lapmix':
* checking DESCRIPTION meta-information ... OK
* checking whether 'INDEX' is up-to-date ... NO
* use '--force' to overwrite the existing 'INDEX'
* installing the package to re-build vignettes
* Installing *source* package 'lapmix' ...
** R
** inst
** help
 >>> Building/Updating help pages for package 'lapmix'
     Formats: text html latex example 
  lap.volcanoplot                   text    html    latex   example
  lapmix-internal                   text    html    latex
  lapmix.Fit                        text    html    latex   example
  laptopTable                       text    html    latex   example
** building package indices ...
* DONE (lapmix)
* creating vignettes ... OK
* removing junk files
* checking for LF line-endings in source files
* checking for empty or unneeded directories
* building 'lapmix_1.0.0.tar.gz'