Back to the "Multiple platform build/check report"
| Package 11/188 | OS | Arch | BUILD | CHECK | BUILD BIN | 
| affypdnn1.8.1Laurent | Linux (SUSE 9.2) | x86_64 | OK | OK | |
| Linux (SUSE 9.2) | i686 | [ OK ] | OK | ||
| Solaris 2.9 | sparc | OK | OK | ||
| Windows Server 2003 | x86_64 | OK | OK | OK | 
| Package: affypdnn | 
| Version: 1.8.1 | 
| Command: /loc/biocbuild/1.9d/R/bin/R CMD build affypdnn | 
| RetCode: 0 | 
| Time: 3.8 seconds | 
| Status: OK | 
| PackageFile: affypdnn_1.8.1.tar.gz | 
* checking for file 'affypdnn/DESCRIPTION' ... OK * preparing 'affypdnn': * checking DESCRIPTION meta-information ... OK * checking whether 'INDEX' is up-to-date ... OK * removing junk files * checking for LF line-endings in source files * checking for empty or unneeded directories * building 'affypdnn_1.8.1.tar.gz'