Back to the "Multiple platform build/check report"
| Package 158/188 | OS | Arch | BUILD | CHECK | BUILD BIN |
safe1.6.0William T. Barry | Linux (SUSE 9.2) | x86_64 | OK | OK | |
| Linux (SUSE 9.2) | i686 | OK | OK | ||
| Solaris 2.9 | sparc | OK | OK | ||
| Windows Server 2003 | x86_64 | OK | [ OK ] | OK |
| Package: safe |
| Version: 1.6.0 |
| Command: D:\biocbld\1.9d\R\bin\R.exe CMD check safe_1.6.0.tar.gz |
| RetCode: 0 |
| Time: 277.0 seconds |
| Status: OK |
| CheckDir: safe.Rcheck |
| Warnings: 0 |
* checking for working latex ... OK * using log directory 'D:/biocbld/1.9d/Rpacks/safe.Rcheck' * using R version 2.4.0 (2006-10-03) * checking for file 'safe/DESCRIPTION' ... OK * this is package 'safe' version '1.6.0' * checking package dependencies ... OK * checking if this is a source package ... OK * checking whether package 'safe' can be installed ... OK * checking package directory ... OK * checking for portable file names ... OK * checking DESCRIPTION meta-information ... OK * checking top-level files ... OK * checking index information ... OK * checking package subdirectories ... OK * checking R files for syntax errors ... OK * checking R files for non-ASCII characters ... OK * checking whether the package can be loaded ... OK * checking whether the package can be loaded with stated dependencies ... OK * checking S3 generic/method consistency ... OK * checking replacement functions ... OK * checking foreign function calls ... OK * checking R code for possible problems ... OK * checking Rd files ... OK * checking Rd cross-references ... OK * checking for missing documentation entries ... OK * checking for code/documentation mismatches ... OK * checking Rd \usage sections ... OK * creating safe-Ex.R ... OK * checking examples ... OK * checking package vignettes in 'inst/doc' ... OK * creating safe-manual.tex ... OK * checking safe-manual.tex ... OK
safe.Rcheck/00install.out:
installing R.css in D:/biocbld/1.9d/Rpacks/safe.Rcheck
---------- Making package safe ------------
adding build stamp to DESCRIPTION
installing R files
installing inst files
installing man source files
installing indices
installing help
>>> Building/Updating help pages for package 'safe'
Formats: text html latex example chm
SAFE-class text html latex chm
getCmatrix text html latex example chm
getPImatrix text html latex example chm
safe-internal text html latex chm
safe text html latex example chm
safeplot text html latex example chm
Microsoft HTML Help Compiler 4.74.8702
Compiling d:\biocbld\1.9d\Rpacks\safe.Rcheck\00_pkg_src\safe\chm\safe.chm
Compile time: 0 minutes, 0 seconds
7 Topics
26 Local links
0 Internet links
1 Graphic
Created d:\biocbld\1.9d\Rpacks\safe.Rcheck\00_pkg_src\safe\chm\safe.chm, 27,731 bytes
Compression decreased file by 4,214 bytes.
adding MD5 sums
* DONE (safe)