| 1.6.0Greg Hather | Linux (SUSE 9.2) | x86_64 | OK | OK |  | 
| Linux (SUSE 9.2) | i686 | OK | OK |  | 
| Solaris 2.9 | sparc | OK | OK |  | 
| Windows Server 2003 | x86_64 | OK | OK | [ OK ] | 
Using auto-selected zip options ''
---------- Making package geneRecommender ------------
  adding build stamp to DESCRIPTION
  installing R files
  installing inst files
  installing man source files
  installing indices
  installing help
 >>> Building/Updating help pages for package 'geneRecommender'
     Formats: text html latex example chm 
  gr.cv                             text    html    latex   example chm
  gr.main                           text    html    latex   example chm
  gr.normalize                      text    html    latex   example chm
Microsoft HTML Help Compiler 4.74.8702
Compiling d:\biocbld\1.9d\Rpacks\R.INSTALL\geneRecommender\chm\geneRecommender.chm
Compile time: 0 minutes, 0 seconds
4	Topics
6	Local links
0	Internet links
1	Graphic
Created d:\biocbld\1.9d\Rpacks\R.INSTALL\geneRecommender\chm\geneRecommender.chm, 21,970 bytes
Compression increased file by 4,025 bytes.
  adding MD5 sums
packaged installation of package 'geneRecommender' as geneRecommender_1.6.0.zip
* DONE (geneRecommender)