Back to the "Multiple platform build/check report"
| Package 90/188 | OS | Arch | BUILD | CHECK | BUILD BIN |
KEGGSOAP1.8.3J. Zhang | Linux (SUSE 9.2) | x86_64 | OK | OK | |
| Linux (SUSE 9.2) | i686 | OK | OK | ||
| Solaris 2.9 | sparc | OK | OK | ||
| Windows Server 2003 | x86_64 | OK | [ OK ] | OK |
| Package: KEGGSOAP |
| Version: 1.8.3 |
| Command: D:\biocbld\1.9d\R\bin\R.exe CMD check KEGGSOAP_1.8.3.tar.gz |
| RetCode: 0 |
| Time: 342.4 seconds |
| Status: OK |
| CheckDir: KEGGSOAP.Rcheck |
| Warnings: 0 |
* checking for working latex ... OK * using log directory 'D:/biocbld/1.9d/Rpacks/KEGGSOAP.Rcheck' * using R version 2.4.0 (2006-10-03) * checking for file 'KEGGSOAP/DESCRIPTION' ... OK * this is package 'KEGGSOAP' version '1.8.3' * checking package dependencies ... OK * checking if this is a source package ... OK * checking whether package 'KEGGSOAP' can be installed ... OK * checking package directory ... OK * checking for portable file names ... OK * checking DESCRIPTION meta-information ... OK * checking top-level files ... OK * checking index information ... OK * checking package subdirectories ... OK * checking R files for syntax errors ... OK * checking R files for non-ASCII characters ... OK * checking whether the package can be loaded ... OK * checking whether the package can be loaded with stated dependencies ... OK * checking whether the name space can be loaded with stated dependencies ... OK * checking S3 generic/method consistency ... OK * checking replacement functions ... OK * checking foreign function calls ... OK * checking R code for possible problems ... OK * checking Rd files ... OK * checking Rd cross-references ... OK * checking for missing documentation entries ... OK * checking for code/documentation mismatches ... OK * checking Rd \usage sections ... OK * creating KEGGSOAP-Ex.R ... OK * checking examples ... OK * creating KEGGSOAP-manual.tex ... OK * checking KEGGSOAP-manual.tex ... OK
KEGGSOAP.Rcheck/00install.out:
installing R.css in D:/biocbld/1.9d/Rpacks/KEGGSOAP.Rcheck
---------- Making package KEGGSOAP ------------
adding build stamp to DESCRIPTION
installing NAMESPACE file and metadata
installing R files
installing man source files
installing indices
installing help
>>> Building/Updating help pages for package 'KEGGSOAP'
Formats: text html latex example chm
KEGGserver text html latex chm
bget text html latex example chm
get.genes.by.motifs text html latex example chm
get.genes.by.organism text html latex example chm
get.genes.by.pathway text html latex example chm
get.motifs.by.gene text html latex example chm
get.paralogs.by.gene text html latex example chm
get.pathways.by.genes text html latex example chm
getBestNeighbors text html latex example chm
list.organisms text html latex example chm
mark.pathway.by.objects text html latex example chm
search.compounds.by.name text html latex example chm
search.glycans.by.name text html latex example chm
Microsoft HTML Help Compiler 4.74.8702
Compiling d:\biocbld\1.9d\Rpacks\KEGGSOAP.Rcheck\00_pkg_src\KEGGSOAP\chm\KEGGSOAP.chm
Compile time: 0 minutes, 0 seconds
14 Topics
64 Local links
15 Internet links
1 Graphic
Created d:\biocbld\1.9d\Rpacks\KEGGSOAP.Rcheck\00_pkg_src\KEGGSOAP\chm\KEGGSOAP.chm, 35,283 bytes
Compression decreased file by 30,424 bytes.
preparing package KEGGSOAP for lazy loading
Loading required package: XML
Loading required package: SSOAP
Loading required package: RCurl
adding MD5 sums
* DONE (KEGGSOAP)