1.6.0Richard Kennedy | Linux (SUSE 9.2)  | x86_64 |  OK  |  OK  |  | 
| Linux (SUSE 9.2)  | i686 |  OK  |  OK  |  | 
| Solaris 2.9  | sparc | [ ERROR ] | skipped |  | 
| Windows Server 2003  | x86_64 |  OK  |  OK  |  OK  | 
* checking for file 'sscore/DESCRIPTION' ... OK
* preparing 'sscore':
* checking DESCRIPTION meta-information ... OK
* checking whether 'INDEX' is up-to-date ... NO
* use '--force' to overwrite the existing 'INDEX'
* installing the package to re-build vignettes
* Installing *source* package 'sscore' ...
** R
** inst
** preparing package for lazy loading
Loading required package: affy
Loading required package: Biobase
Loading required package: tools
Welcome to Bioconductor
    Vignettes contain introductory material. To view, type
    'openVignette()' or start with 'help(Biobase)'. For details
    on reading vignettes, see the openVignette help page.
Loading required package: affyio
Loading required package: affxparser
Warning in library(pkg, character.only = TRUE, logical = TRUE, lib.loc = lib.loc) : 
	 there is no package called 'affxparser'
Error: package 'affxparser' could not be loaded
Execution halted
ERROR: lazy loading failed for package 'sscore'
** Removing '/tmp/Rinst1088547223/sscore'
 ERROR
Installation failed.
Removing '/tmp/Rinst1088547223'