Back to the "Multiple platform build/check report"
| Package 78/188 | OS | Arch | BUILD | CHECK | BUILD BIN | 
| GraphAT1.6.0Thomas LaFramboise | Linux (SUSE 9.2) | x86_64 | OK | OK | |
| Linux (SUSE 9.2) | i686 | OK | OK | ||
| Solaris 2.9 | sparc | [ OK ] | OK | ||
| Windows Server 2003 | x86_64 | OK | OK | OK | 
| Package: GraphAT | 
| Version: 1.6.0 | 
| Command: /loc/biocbuild/1.9d/R/bin/R CMD build GraphAT | 
| RetCode: 0 | 
| Time: 3.9 seconds | 
| Status: OK | 
| PackageFile: GraphAT_1.6.0.tar.gz | 
* checking for file 'GraphAT/DESCRIPTION' ... OK * preparing 'GraphAT': * checking DESCRIPTION meta-information ... OK * removing junk files * checking for LF line-endings in source files * checking for empty or unneeded directories * building 'GraphAT_1.6.0.tar.gz'