Back to the "Multiple platform build/check report"
| Package 160/205 | OS | Arch | BUILD | CHECK | BUILD BIN |
rfcdmin1.5.2N. Le Meur | Linux (SUSE 9.2) | x86_64 | OK | OK | |
| Linux (SUSE 9.2) | i686 | OK | OK | ||
| Solaris 2.9 | sparc | OK | OK | ||
| Linux (SUSE 10.0) | x86_64 | OK | OK | ||
| Windows Server 2003 | x86_64 | OK | OK | OK | |
| Windows XP | i686 | OK | [ OK ] | skipped | |
| Mac OS X (10.4.6) | i686 | OK | OK |
| Package: rfcdmin |
| Version: 1.5.2 |
| Command: E:\hpages\1.9d\R\bin\R.exe CMD check rfcdmin_1.5.2.tar.gz |
| RetCode: 0 |
| Time: 100.1 seconds |
| Status: OK |
| CheckDir: rfcdmin.Rcheck |
| Warnings: 0 |
* checking for working latex ... OK * using log directory 'E:/hpages/1.9d/Rpacks/rfcdmin.Rcheck' * using R version 2.4.0 alpha (2006-09-10 r39242) * checking for file 'rfcdmin/DESCRIPTION' ... OK * this is package 'rfcdmin' version '1.5.2' * checking package dependencies ... OK * checking if this is a source package ... OK * checking whether package 'rfcdmin' can be installed ... OK * checking package directory ... OK * checking for portable file names ... OK * checking DESCRIPTION meta-information ... OK * checking top-level files ... OK * checking index information ... OK * checking package subdirectories ... OK * checking whether the package can be loaded ... OK * checking whether the package can be loaded with stated dependencies ... OK * checking Rd files ... OK * checking Rd cross-references ... OK * checking for missing documentation entries ... OK * checking for code/documentation mismatches ... OK * checking Rd \usage sections ... OK * creating rfcdmin-Ex.R ... OK * checking examples ... OK * creating rfcdmin-manual.tex ... OK * checking rfcdmin-manual.tex ... OK
rfcdmin.Rcheck/00install.out:
installing R.css in E:/hpages/1.9d/Rpacks/rfcdmin.Rcheck
---------- Making package rfcdmin ------------
adding build stamp to DESCRIPTION
no R files in this package
installing inst files
installing data files
installing man source files
installing indices
Loading required package: rflowcyt
Loading required package: survival
Loading required package: stats
Loading required package: utils
Loading required package: graphics
Loading required package: grDevices
Loading required package: splines
Loading required package: xtable
Loading required package: KernSmooth
Loading required package: MASS
Loading required package: grid
Loading required package: splancs
Loading required package: sp
Loading required package: methods
Loading required package: hexbin
Loading required package: lattice
Loading required package: colorspace
Attaching package: 'colorspace'
The following object(s) are masked from package:grDevices :
hcl
Loading required package: rfcdmin
Loading required package: fields
Loading required package: locfit
Loading required package: akima
Error in namespaceExport(ns, exports) : undefined exports :.__M__length:base
not zipping data
installing help
>>> Building/Updating help pages for package 'rfcdmin'
Formats: text html latex example chm
FCSRobj.currentmin text html latex example chm
FCSRobjmin text html latex example chm
MC.053min text html latex example chm
PRIM.example.data text html latex example chm
PRIM.real.data.min text html latex example chm
PerPosROCmin text html latex example chm
SEB-NP22.fcs text html latex example chm
VRCmin text html latex example chm
facscan256.fcs text html latex example chm
flowcyt.data text html latex example chm
flowcyt.fcs text html latex example chm
flowcyt.fluors text html latex example chm
Microsoft HTML Help Compiler 4.74.8702
Compiling e:\hpages\1.9d\Rpacks\rfcdmin.Rcheck\00_pkg_src\rfcdmin\chm\rfcdmin.chm
Compile time: 0 minutes, 0 seconds
13 Topics
81 Local links
0 Internet links
1 Graphic
Created e:\hpages\1.9d\Rpacks\rfcdmin.Rcheck\00_pkg_src\rfcdmin\chm\rfcdmin.chm, 35,868 bytes
Compression decreased file by 27,258 bytes.
adding MD5 sums
* DONE (rfcdmin)