Back to the "Multiple platform build/check report"
| Package 146/205 | OS | Arch | BUILD | CHECK | BUILD BIN | 
| plgem1.5.0Mattia Pelizzola | Linux (SUSE 9.2) | x86_64 | OK | OK | |
| Linux (SUSE 9.2) | i686 | OK | OK | ||
| Solaris 2.9 | sparc | OK | OK | ||
| Linux (SUSE 10.0) | x86_64 | OK | OK | ||
| Windows Server 2003 | x86_64 | OK | OK | OK | |
| Windows XP | i686 | OK | [ OK ] | skipped | |
| Mac OS X (10.4.6) | i686 | OK | OK | 
| Package: plgem | 
| Version: 1.5.0 | 
| Command: E:\hpages\1.9d\R\bin\R.exe CMD check plgem_1.5.0.tar.gz | 
| RetCode: 0 | 
| Time: 182.2 seconds | 
| Status: OK | 
| CheckDir: plgem.Rcheck | 
| Warnings: 0 | 
* checking for working latex ... OK * using log directory 'E:/hpages/1.9d/Rpacks/plgem.Rcheck' * using R version 2.4.0 alpha (2006-09-10 r39242) * checking for file 'plgem/DESCRIPTION' ... OK * this is package 'plgem' version '1.5.0' * checking package dependencies ... OK * checking if this is a source package ... OK * checking whether package 'plgem' can be installed ... OK * checking package directory ... OK * checking for portable file names ... OK * checking DESCRIPTION meta-information ... OK * checking top-level files ... OK * checking index information ... OK * checking package subdirectories ... OK * checking R files for syntax errors ... OK * checking R files for non-ASCII characters ... OK * checking whether the package can be loaded ... OK * checking whether the package can be loaded with stated dependencies ... OK * checking S3 generic/method consistency ... OK * checking replacement functions ... OK * checking foreign function calls ... OK * checking R code for possible problems ... OK * checking Rd files ... OK * checking Rd cross-references ... OK * checking for missing documentation entries ... OK * checking for code/documentation mismatches ... OK * checking Rd \usage sections ... OK * creating plgem-Ex.R ... OK * checking examples ... OK * checking package vignettes in 'inst/doc' ... OK * creating plgem-manual.tex ... OK * checking plgem-manual.tex ... OK
plgem.Rcheck/00install.out:
installing R.css in E:/hpages/1.9d/Rpacks/plgem.Rcheck
---------- Making package plgem ------------
  adding build stamp to DESCRIPTION
  installing R files
  installing inst files
  installing data files
  installing man source files
  installing indices
  not zipping data
  installing help
 >>> Building/Updating help pages for package 'plgem'
     Formats: text html latex example chm 
  LPSeset                           text    html    latex   example chm
  plgem.deg                         text    html    latex   example chm
  plgem.fit                         text    html    latex   example chm
  plgem.obsStn                      text    html    latex   example chm
  run.plgem                         text    html    latex   example chm
Microsoft HTML Help Compiler 4.74.8702
Compiling e:\hpages\1.9d\Rpacks\plgem.Rcheck\00_pkg_src\plgem\chm\plgem.chm
Compile time: 0 minutes, 0 seconds
6	Topics
25	Local links
5	Internet links
1	Graphic
Created e:\hpages\1.9d\Rpacks\plgem.Rcheck\00_pkg_src\plgem\chm\plgem.chm, 24,980 bytes
Compression decreased file by 1,588 bytes.
  adding MD5 sums
* DONE (plgem)