2.0.0Eun-kyung Lee | Linux (SUSE 9.2)  | x86_64 |  ERROR  | skipped |  | 
| Linux (SUSE 9.2)  | i686 |  ERROR  | skipped |  | 
| Solaris 2.9  | sparc |  ERROR  | skipped |  | 
| Linux (SUSE 10.0)  | x86_64 |  ERROR  | skipped |  | 
| Windows Server 2003  | x86_64 |  ERROR  | skipped | skipped | 
| Windows XP  | i686 | [ ERROR ] | skipped | skipped | 
| Mac OS X (10.4.6)  | i686 |  ERROR  | skipped |  | 
* checking for file 'arrayQCplot/DESCRIPTION' ... OK
* preparing 'arrayQCplot':
* checking DESCRIPTION meta-information ... OK
* checking whether 'INDEX' is up-to-date ... NO
* use '--force' to overwrite the existing 'INDEX'
* installing the package to re-build vignettes
installing R.css in E:/hpages/1.9d/tmpdir/Rinst364835870
---------- Making package arrayQCplot ------------
  adding build stamp to DESCRIPTION
  installing R files
  installing inst files
  installing man source files
  installing indices
  installing help
 >>> Building/Updating help pages for package 'arrayQCplot'
     Formats: text html latex example chm 
  arrayQC.plot                      text    html    latex   example chm
Microsoft HTML Help Compiler 4.74.8702
Compiling e:\hpages\1.9d\Rpacks\arrayQCplot\chm\arrayQCplot.chm
Compile time: 0 minutes, 0 seconds
2	Topics
2	Local links
0	Internet links
1	Graphic
Created e:\hpages\1.9d\Rpacks\arrayQCplot\chm\arrayQCplot.chm, 15,610 bytes
Compression increased file by 9,239 bytes.
  preparing package arrayQCplot for lazy loading
Loading required package: RGtk
Warning in library(pkg, character.only = TRUE, logical = TRUE, lib.loc = lib.loc) : 
	 there is no package called 'RGtk'
Error: package 'RGtk' could not be loaded
Execution halted
make: *** [lazyload] Error 1
*** Installation of arrayQCplot failed ***
Removing 'E:/hpages/1.9d/tmpdir/Rinst364835870/arrayQCplot'
 ERROR
Installation failed.
Removing 'E:/hpages/1.9d/tmpdir/Rinst364835870'