Back to the "Multiple platform build/check report"
| Package 120/205 | OS | Arch | BUILD | CHECK | BUILD BIN |
Mfuzz1.1.0Matthias Futschik | Linux (SUSE 9.2) | x86_64 | OK | OK | |
| Linux (SUSE 9.2) | i686 | OK | OK | ||
| Solaris 2.9 | sparc | OK | OK | ||
| Linux (SUSE 10.0) | x86_64 | OK | OK | ||
| Windows Server 2003 | x86_64 | OK | OK | OK | |
| Windows XP | i686 | OK | [ OK ] | skipped | |
| Mac OS X (10.4.6) | i686 | OK | OK |
| Package: Mfuzz |
| Version: 1.1.0 |
| Command: E:\hpages\1.9d\R\bin\R.exe CMD check Mfuzz_1.1.0.tar.gz |
| RetCode: 0 |
| Time: 58.9 seconds |
| Status: OK |
| CheckDir: Mfuzz.Rcheck |
| Warnings: 0 |
* checking for working latex ... OK * using log directory 'E:/hpages/1.9d/Rpacks/Mfuzz.Rcheck' * using R version 2.4.0 alpha (2006-09-10 r39242) * checking for file 'Mfuzz/DESCRIPTION' ... OK * this is package 'Mfuzz' version '1.1.0' * checking package dependencies ... OK * checking if this is a source package ... OK * checking whether package 'Mfuzz' can be installed ... OK * checking package directory ... OK * checking for portable file names ... OK * checking DESCRIPTION meta-information ... OK * checking top-level files ... OK * checking index information ... OK * checking package subdirectories ... OK * checking R files for syntax errors ... OK * checking R files for non-ASCII characters ... OK * checking whether the package can be loaded ... OK * checking whether the package can be loaded with stated dependencies ... OK * checking whether the name space can be loaded with stated dependencies ... OK * checking S3 generic/method consistency ... OK * checking replacement functions ... OK * checking foreign function calls ... OK * checking R code for possible problems ... OK * checking Rd files ... OK * checking Rd cross-references ... OK * checking for missing documentation entries ... OK * checking for code/documentation mismatches ... OK * checking Rd \usage sections ... OK * creating Mfuzz-Ex.R ... OK * checking examples ... OK * checking package vignettes in 'inst/doc' ... OK * creating Mfuzz-manual.tex ... OK * checking Mfuzz-manual.tex ... OK
Mfuzz.Rcheck/00install.out:
installing R.css in E:/hpages/1.9d/Rpacks/Mfuzz.Rcheck
---------- Making package Mfuzz ------------
adding build stamp to DESCRIPTION
installing NAMESPACE file and metadata
installing R files
installing inst files
installing data files
installing man source files
installing indices
not zipping data
installing help
>>> Building/Updating help pages for package 'Mfuzz'
Formats: text html latex example chm
acore text html latex example chm
cselection text html latex example chm
fill.NA text html latex example chm
filter.NA text html latex example chm
filter.std text html latex example chm
kmeans2 text html latex example chm
kmeans2.plot text html latex example chm
mfuzz text html latex example chm
mfuzz.plot text html latex example chm
mfuzzColorBar text html latex example chm
overlap text html latex example chm
overlap.plot text html latex example chm
partcoef text html latex example chm
randomise text html latex example chm
standardise text html latex example chm
standardise2 text html latex example chm
top.count text html latex example chm
yeast text html latex chm
Microsoft HTML Help Compiler 4.74.8702
Compiling e:\hpages\1.9d\Rpacks\Mfuzz.Rcheck\00_pkg_src\Mfuzz\chm\Mfuzz.chm
Compile time: 0 minutes, 0 seconds
19 Topics
36 Local links
17 Internet links
1 Graphic
Created e:\hpages\1.9d\Rpacks\Mfuzz.Rcheck\00_pkg_src\Mfuzz\chm\Mfuzz.chm, 33,814 bytes
Compression decreased file by 20,992 bytes.
adding MD5 sums
* DONE (Mfuzz)