Back to the "Multiple platform build/check report"
| Package 190/205 | OS | Arch | BUILD | CHECK | BUILD BIN |
sscore1.5.2Richard Kennedy | Linux (SUSE 9.2) | x86_64 | OK | OK | |
| Linux (SUSE 9.2) | i686 | OK | OK | ||
| Solaris 2.9 | sparc | OK | OK | ||
| Linux (SUSE 10.0) | x86_64 | OK | OK | ||
| Windows Server 2003 | x86_64 | OK | [ OK ] | OK | |
| Windows XP | i686 | OK | OK | skipped | |
| Mac OS X (10.4.6) | i686 | OK | OK |
| Package: sscore |
| Version: 1.5.2 |
| Command: D:\biocbld\1.9d\R\bin\R.exe CMD check sscore_1.5.2.tar.gz |
| RetCode: 0 |
| Time: 82.5 seconds |
| Status: OK |
| CheckDir: sscore.Rcheck |
| Warnings: 0 |
* checking for working latex ... OK * using log directory 'D:/biocbld/1.9d/Rpacks/sscore.Rcheck' * using R version 2.4.0 alpha (2006-09-10 r39242) * checking for file 'sscore/DESCRIPTION' ... OK * this is package 'sscore' version '1.5.2' * checking package dependencies ... OK * checking if this is a source package ... OK * checking whether package 'sscore' can be installed ... OK * checking package directory ... OK * checking for portable file names ... OK * checking DESCRIPTION meta-information ... OK * checking top-level files ... OK * checking index information ... OK * checking package subdirectories ... OK * checking R files for syntax errors ... OK * checking R files for non-ASCII characters ... OK * checking whether the package can be loaded ... OK * checking whether the package can be loaded with stated dependencies ... OK * checking S3 generic/method consistency ... OK * checking replacement functions ... OK * checking foreign function calls ... OK * checking R code for possible problems ... OK * checking Rd files ... OK * checking Rd cross-references ... OK * checking for missing documentation entries ... OK * checking for code/documentation mismatches ... OK * checking Rd \usage sections ... OK * creating sscore-Ex.R ... OK * checking examples ... OK * checking package vignettes in 'inst/doc' ... OK * creating sscore-manual.tex ... OK * checking sscore-manual.tex ... OK
sscore.Rcheck/00install.out:
installing R.css in D:/biocbld/1.9d/Rpacks/sscore.Rcheck
---------- Making package sscore ------------
adding build stamp to DESCRIPTION
installing R files
installing inst files
installing man source files
installing indices
installing help
>>> Building/Updating help pages for package 'sscore'
Formats: text html latex example chm
OneStepBiweightAlgorithm text html latex chm
SScore text html latex example chm
SScoreBatch text html latex example chm
computeOutlier text html latex example chm
computeRawQ text html latex chm
computeSFandSDT text html latex example chm
computeZoneIInfo text html latex chm
computeZonenoise text html latex chm
trimMean text html latex chm
Microsoft HTML Help Compiler 4.74.8702
Compiling d:\biocbld\1.9d\Rpacks\sscore.Rcheck\00_pkg_src\sscore\chm\sscore.chm
Compile time: 0 minutes, 0 seconds
10 Topics
24 Local links
12 Internet links
1 Graphic
Created d:\biocbld\1.9d\Rpacks\sscore.Rcheck\00_pkg_src\sscore\chm\sscore.chm, 26,341 bytes
Compression decreased file by 10,425 bytes.
preparing package sscore for lazy loading
Loading required package: affy
Loading required package: Biobase
Loading required package: tools
Welcome to Bioconductor
Vignettes contain introductory material. To view, type
'openVignette()' or start with 'help(Biobase)'. For details
on reading vignettes, see the openVignette help page.
Loading required package: affyio
adding MD5 sums
* DONE (sscore)