0.99.18Benilton Carvalho | Linux (SUSE 9.2) | x86_64 | OK | ERROR | |
Linux (SUSE 9.2) | i686 | OK | ERROR | |
Solaris 2.9 | sparc | OK | ERROR | |
Linux (SUSE 10.0) | x86_64 | OK | ERROR | |
Windows Server 2003 | x86_64 | OK | ERROR | [ ERROR ] |
Windows XP | i686 | OK | ERROR | skipped |
Mac OS X (10.4.6) | i686 | OK | ERROR | |
Using auto-selected zip options ' oligo-HELP=ziponly'
---------- Making package oligo ------------
**********************************************
WARNING: this package has a configure script
It probably needs manual configuration
**********************************************
adding build stamp to DESCRIPTION
making DLL ...
making baseProfile.d from baseProfile.c
making basecontent.d from basecontent.c
making qnorm.d from qnorm.c
making rma2.d from rma2.c
making rma_background2.d from rma_background2.c
making rma_common.d from rma_common.c
gcc -ID:/biocbld/1.9d/R/src/extra/zlib -DHAVE_ZLIB -ID:/biocbld/1.9d/R/include -Wall -O2 -std=gnu99 -c baseProfile.c -o baseProfile.o
baseProfile.c: In function `gcrma_getSeq2':
baseProfile.c:14: warning: unused variable `nx'
gcc -ID:/biocbld/1.9d/R/src/extra/zlib -DHAVE_ZLIB -ID:/biocbld/1.9d/R/include -Wall -O2 -std=gnu99 -c basecontent.c -o basecontent.o
gcc -ID:/biocbld/1.9d/R/src/extra/zlib -DHAVE_ZLIB -ID:/biocbld/1.9d/R/include -Wall -O2 -std=gnu99 -c qnorm.c -o qnorm.o
qnorm.c: In function `qnorm_c_determine_target':
qnorm.c:1518: warning: unused variable `ind'
qnorm.c:1519: warning: unused variable `dimat'
qnorm.c:1523: warning: unused variable `ranks'
qnorm.c: In function `R_qnorm_using_target':
qnorm.c:1599: warning: unused variable `dim2'
qnorm.c: In function `qnorm_c_determine_target':
qnorm.c:1591: warning: control reaches end of non-void function
qnorm.c: At top level:
qnorm.c:114: warning: 'min' defined but not used
qnorm.c:387: warning: 'qnorm_c_old' defined but not used
qnorm.c:461: warning: 'qnorm_robust_c_old' defined but not used
gcc -ID:/biocbld/1.9d/R/src/extra/zlib -DHAVE_ZLIB -ID:/biocbld/1.9d/R/include -Wall -O2 -std=gnu99 -c rma2.c -o rma2.o
gcc -ID:/biocbld/1.9d/R/src/extra/zlib -DHAVE_ZLIB -ID:/biocbld/1.9d/R/include -Wall -O2 -std=gnu99 -c rma_background2.c -o rma_background2.o
gcc -ID:/biocbld/1.9d/R/src/extra/zlib -DHAVE_ZLIB -ID:/biocbld/1.9d/R/include -Wall -O2 -std=gnu99 -c rma_common.c -o rma_common.o
windres --include-dir D:/biocbld/1.9d/R/include -i oligo_res.rc -o oligo_res.o
gcc -shared -s -o oligo.dll oligo.def baseProfile.o basecontent.o qnorm.o rma2.o rma_background2.o rma_common.o oligo_res.o -LD:/biocbld/1.9d/R/bin -lR
... DLL made
installing DLL
installing R files
Error in tools:::.install_package_code_files(".", "D:/biocbld/1.9d/R/library/oligo") :
files in 'Collate' field missing from 'D:/biocbld/1.9d/Rpacks/R.INSTALL/oligo/R':
methods-SnpCallSetPlus.R
Execution halted
make[2]: *** [D:/biocbld/1.9d/R/library/oligo/R/oligo] Error 1
make[1]: *** [all] Error 2
make: *** [pkg-oligo] Error 2
*** Installation of oligo failed ***
Removing 'D:/biocbld/1.9d/R/library/oligo'