Back to the "Multiple platform build/check report"
| Package 130/205 | OS | Arch | BUILD | CHECK | BUILD BIN |
nudge1.3.0N. Dean | Linux (SUSE 9.2) | x86_64 | OK | OK | |
| Linux (SUSE 9.2) | i686 | OK | OK | ||
| Solaris 2.9 | sparc | OK | OK | ||
| Linux (SUSE 10.0) | x86_64 | OK | OK | ||
| Windows Server 2003 | x86_64 | OK | [ OK ] | OK | |
| Windows XP | i686 | OK | OK | skipped | |
| Mac OS X (10.4.6) | i686 | OK | OK |
| Package: nudge |
| Version: 1.3.0 |
| Command: D:\biocbld\1.9d\R\bin\R.exe CMD check nudge_1.3.0.tar.gz |
| RetCode: 0 |
| Time: 79.5 seconds |
| Status: OK |
| CheckDir: nudge.Rcheck |
| Warnings: 0 |
* checking for working latex ... OK * using log directory 'D:/biocbld/1.9d/Rpacks/nudge.Rcheck' * using R version 2.4.0 alpha (2006-09-10 r39242) * checking for file 'nudge/DESCRIPTION' ... OK * this is package 'nudge' version '1.3.0' * checking package dependencies ... OK * checking if this is a source package ... OK * checking whether package 'nudge' can be installed ... OK * checking package directory ... OK * checking for portable file names ... OK * checking DESCRIPTION meta-information ... OK * checking top-level files ... OK * checking index information ... OK * checking package subdirectories ... OK * checking R files for syntax errors ... OK * checking R files for non-ASCII characters ... OK * checking whether the package can be loaded ... OK * checking whether the package can be loaded with stated dependencies ... OK * checking S3 generic/method consistency ... OK * checking replacement functions ... OK * checking foreign function calls ... OK * checking R code for possible problems ... OK * checking Rd files ... OK * checking Rd cross-references ... OK * checking for missing documentation entries ... OK * checking for code/documentation mismatches ... OK * checking Rd \usage sections ... OK * creating nudge-Ex.R ... OK * checking examples ... OK * checking package vignettes in 'inst/doc' ... OK * creating nudge-manual.tex ... OK * checking nudge-manual.tex ... OK
nudge.Rcheck/00install.out:
installing R.css in D:/biocbld/1.9d/Rpacks/nudge.Rcheck
---------- Making package nudge ------------
adding build stamp to DESCRIPTION
installing R files
installing inst files
installing data files
installing man source files
installing indices
not zipping data
installing help
>>> Building/Updating help pages for package 'nudge'
Formats: text html latex example chm
hiv text html latex chm
like text html latex chm
neg.contr text html latex chm
norm1a text html latex example chm
norm1b text html latex example chm
norm1c text html latex example chm
norm1d text html latex example chm
norm2c text html latex example chm
norm2d text html latex example chm
nudge1 text html latex example chm
nudge2 text html latex example chm
pos.contr text html latex chm
Microsoft HTML Help Compiler 4.74.8702
Compiling d:\biocbld\1.9d\Rpacks\nudge.Rcheck\00_pkg_src\nudge\chm\nudge.chm
Compile time: 0 minutes, 0 seconds
13 Topics
74 Local links
12 Internet links
1 Graphic
Created d:\biocbld\1.9d\Rpacks\nudge.Rcheck\00_pkg_src\nudge\chm\nudge.chm, 32,162 bytes
Compression decreased file by 23,546 bytes.
adding MD5 sums
* DONE (nudge)