Back to the "Multiple platform build/check report"
| Package 164/205 | OS | Arch | BUILD | CHECK | BUILD BIN |
RLMM0.11.0Nusrat Rabbee | Linux (SUSE 9.2) | x86_64 | OK | OK | |
| Linux (SUSE 9.2) | i686 | OK | OK | ||
| Solaris 2.9 | sparc | OK | OK | ||
| Linux (SUSE 10.0) | x86_64 | OK | OK | ||
| Windows Server 2003 | x86_64 | OK | [ OK ] | OK | |
| Windows XP | i686 | OK | OK | skipped | |
| Mac OS X (10.4.6) | i686 | OK | OK |
| Package: RLMM |
| Version: 0.11.0 |
| Command: D:\biocbld\1.9d\R\bin\R.exe CMD check RLMM_0.11.0.tar.gz |
| RetCode: 0 |
| Time: 30.5 seconds |
| Status: OK |
| CheckDir: RLMM.Rcheck |
| Warnings: 0 |
* checking for working latex ... OK * using log directory 'D:/biocbld/1.9d/Rpacks/RLMM.Rcheck' * using R version 2.4.0 alpha (2006-09-10 r39242) * checking for file 'RLMM/DESCRIPTION' ... OK * this is package 'RLMM' version '0.11.0' * checking package dependencies ... OK * checking if this is a source package ... OK * checking whether package 'RLMM' can be installed ... OK * checking package directory ... OK * checking for portable file names ... OK * checking DESCRIPTION meta-information ... OK * checking top-level files ... OK * checking index information ... OK * checking package subdirectories ... OK * checking R files for syntax errors ... OK * checking R files for non-ASCII characters ... OK * checking whether the package can be loaded ... OK * checking whether the package can be loaded with stated dependencies ... OK * checking S3 generic/method consistency ... OK * checking replacement functions ... OK * checking foreign function calls ... OK * checking R code for possible problems ... OK * checking Rd files ... OK * checking Rd cross-references ... OK * checking for missing documentation entries ... OK * checking for code/documentation mismatches ... OK * checking Rd \usage sections ... OK * creating RLMM-Ex.R ... OK * checking examples ... OK * checking package vignettes in 'inst/doc' ... OK * creating RLMM-manual.tex ... OK * checking RLMM-manual.tex ... OK
RLMM.Rcheck/00install.out:
installing R.css in D:/biocbld/1.9d/Rpacks/RLMM.Rcheck
---------- Making package RLMM ------------
adding build stamp to DESCRIPTION
installing R files
installing inst files
installing man source files
installing indices
installing help
>>> Building/Updating help pages for package 'RLMM'
Formats: text html latex example chm
Classify text html latex chm
create_Thetafile text html latex chm
normalize_Rawfiles text html latex chm
plot_theta text html latex chm
Microsoft HTML Help Compiler 4.74.8702
Compiling d:\biocbld\1.9d\Rpacks\RLMM.Rcheck\00_pkg_src\RLMM\chm\RLMM.chm
Compile time: 0 minutes, 0 seconds
5 Topics
8 Local links
0 Internet links
1 Graphic
Created d:\biocbld\1.9d\Rpacks\RLMM.Rcheck\00_pkg_src\RLMM\chm\RLMM.chm, 19,727 bytes
Compression increased file by 5,314 bytes.
adding MD5 sums
* DONE (RLMM)