Using auto-selected zip options ''
---------- Making package BSgenome ------------
  adding build stamp to DESCRIPTION
  installing NAMESPACE file and metadata
  installing R files
  save image
Loading required package: Biostrings
  installing man source files
  installing indices
  installing help
 >>> Building/Updating help pages for package 'BSgenome'
     Formats: text html latex example chm 
  BSgenome-class                    text    html    latex   example chm
  buildDataFiles                    text    html    latex   example chm
Microsoft HTML Help Compiler 4.74.8702
Compiling d:\biocbld\1.9d\Rpacks\R.INSTALL\BSgenome\chm\BSgenome.chm
Compile time: 0 minutes, 0 seconds
3	Topics
10	Local links
0	Internet links
1	Graphic
Created d:\biocbld\1.9d\Rpacks\R.INSTALL\BSgenome\chm\BSgenome.chm, 17,007 bytes
Compression increased file by 5,765 bytes.
  adding MD5 sums
packaged installation of package 'BSgenome' as BSgenome_1.1.2.zip
* DONE (BSgenome)