Back to the "Multiple platform build/check report"
| Package 93/205 | OS | Arch | BUILD | CHECK | BUILD BIN |
impute1.5.0Balasubramanian Narasimhan | Linux (SUSE 9.2) | x86_64 | OK | [ OK ] | |
| Linux (SUSE 9.2) | i686 | OK | OK | ||
| Solaris 2.9 | sparc | OK | ERROR | ||
| Linux (SUSE 10.0) | x86_64 | OK | ERROR | ||
| Windows Server 2003 | x86_64 | OK | OK | OK | |
| Windows XP | i686 | OK | OK | skipped | |
| Mac OS X (10.4.6) | i686 | OK | ERROR |
| Package: impute |
| Version: 1.5.0 |
| Command: /loc/biocbuild/1.9d/R/bin/R CMD check impute_1.5.0.tar.gz |
| RetCode: 0 |
| Time: 29.3 seconds |
| Status: OK |
| CheckDir: impute.Rcheck |
| Warnings: 0 |
* checking for working latex ... OK * using log directory '/loc/biocbuild/1.9d/Rpacks/impute.Rcheck' * using R version 2.4.0 alpha (2006-09-10 r39242) * checking for file 'impute/DESCRIPTION' ... OK * this is package 'impute' version '1.5.0' * checking package dependencies ... OK * checking if this is a source package ... OK * checking whether package 'impute' can be installed ... OK * checking package directory ... OK * checking for portable file names ... OK * checking for sufficient/correct file permissions ... OK * checking DESCRIPTION meta-information ... OK * checking top-level files ... OK * checking index information ... OK * checking package subdirectories ... OK * checking R files for syntax errors ... OK * checking R files for non-ASCII characters ... OK * checking whether the package can be loaded ... OK * checking whether the package can be loaded with stated dependencies ... OK * checking whether the name space can be loaded with stated dependencies ... OK * checking S3 generic/method consistency ... OK * checking replacement functions ... OK * checking foreign function calls ... OK * checking R code for possible problems ... OK * checking Rd files ... OK * checking Rd cross-references ... OK * checking for missing documentation entries ... OK * checking for code/documentation mismatches ... OK * checking Rd \usage sections ... OK * checking for CRLF line endings in C/C++/Fortran sources/headers ... OK * checking for portable use of $BLAS_LIBS ... OK * creating impute-Ex.R ... OK * checking examples ... OK * creating impute-manual.tex ... OK * checking impute-manual.tex ... OK
impute.Rcheck/00install.out:
* Installing *source* package 'impute' ...
** libs
g77 -fpic -g -O2 -Wall -c knnimpute.f -o knnimpute.o
knnimpute.f: In subroutine `knnimp':
knnimpute.f:6: warning: unused variable `jj'
knnimpute.f: In subroutine `twomis':
knnimpute.f:132: warning: `dold' might be used uninitialized in this function
gcc -shared -L/usr/local/lib64 -o impute.so knnimpute.o -lg2c -lm -lgcc_s
** R
** data
** help
>>> Building/Updating help pages for package 'impute'
Formats: text html latex example
impute.knn text html latex example
khanmiss text html latex example
** building package indices ...
* DONE (impute)