Back to the "Multiple platform build/check report"
| Package 59/205 | OS | Arch | BUILD | CHECK | BUILD BIN |
factDesign1.7.0Denise Scholtens | Linux (SUSE 9.2) | x86_64 | OK | [ OK ] | |
| Linux (SUSE 9.2) | i686 | OK | OK | ||
| Solaris 2.9 | sparc | OK | OK | ||
| Linux (SUSE 10.0) | x86_64 | OK | OK | ||
| Windows Server 2003 | x86_64 | OK | OK | OK | |
| Windows XP | i686 | OK | OK | skipped | |
| Mac OS X (10.4.6) | i686 | OK | OK |
| Package: factDesign |
| Version: 1.7.0 |
| Command: /loc/biocbuild/1.9d/R/bin/R CMD check factDesign_1.7.0.tar.gz |
| RetCode: 0 |
| Time: 97.3 seconds |
| Status: OK |
| CheckDir: factDesign.Rcheck |
| Warnings: 0 |
* checking for working latex ... OK * using log directory '/loc/biocbuild/1.9d/Rpacks/factDesign.Rcheck' * using R version 2.4.0 alpha (2006-09-10 r39242) * checking for file 'factDesign/DESCRIPTION' ... OK * this is package 'factDesign' version '1.7.0' * checking package dependencies ... OK * checking if this is a source package ... OK * checking whether package 'factDesign' can be installed ... OK * checking package directory ... OK * checking for portable file names ... OK * checking for sufficient/correct file permissions ... OK * checking DESCRIPTION meta-information ... OK * checking top-level files ... OK * checking index information ... OK * checking package subdirectories ... OK * checking R files for syntax errors ... OK * checking R files for non-ASCII characters ... OK * checking whether the package can be loaded ... OK * checking whether the package can be loaded with stated dependencies ... OK * checking S3 generic/method consistency ... OK * checking replacement functions ... OK * checking foreign function calls ... OK * checking R code for possible problems ... OK * checking Rd files ... OK * checking Rd cross-references ... OK * checking for missing documentation entries ... OK * checking for code/documentation mismatches ... OK * checking Rd \usage sections ... OK * creating factDesign-Ex.R ... OK * checking examples ... OK * checking package vignettes in 'inst/doc' ... OK * creating factDesign-manual.tex ... OK * checking factDesign-manual.tex ... OK
factDesign.Rcheck/00install.out:
* Installing *source* package 'factDesign' ...
** R
** data
** inst
** help
>>> Building/Updating help pages for package 'factDesign'
Formats: text html latex example
contrasts text html latex example
estrogen text html latex example
findFC text html latex example
kRepsOverA text html latex example
outliers text html latex example
** building package indices ...
* DONE (factDesign)