Back to the "Multiple platform build/check report"
| Package 21/205 | OS | Arch | BUILD | CHECK | BUILD BIN |
aroma.light1.1.0Henrik Bengtsson | Linux (SUSE 9.2) | x86_64 | [ OK ] | WARNINGS | |
| Linux (SUSE 9.2) | i686 | OK | WARNINGS | ||
| Solaris 2.9 | sparc | OK | OK | ||
| Linux (SUSE 10.0) | x86_64 | OK | WARNINGS | ||
| Windows Server 2003 | x86_64 | OK | WARNINGS | OK | |
| Windows XP | i686 | OK | WARNINGS | OK | |
| Mac OS X (10.4.6) | i686 | OK | WARNINGS |
| Package: aroma.light |
| Version: 1.1.0 |
| Command: /loc/biocbuild/1.9d/R/bin/R CMD build aroma.light |
| RetCode: 0 |
| Time: 1.8 seconds |
| Status: OK |
| PackageFile: aroma.light_1.1.0.tar.gz |
* checking for file 'aroma.light/DESCRIPTION' ... OK * preparing 'aroma.light': * checking DESCRIPTION meta-information ... OK * removing junk files * checking for LF line-endings in source files * checking for empty or unneeded directories * building 'aroma.light_1.1.0.tar.gz'