Back to the "Multiple platform build/check report"
| Package 9/205 | OS | Arch | BUILD | CHECK | BUILD BIN |
affyio1.1.8Benjamin Milo Bolstad | Linux (SUSE 9.2) | x86_64 | OK | [ OK ] | |
| Linux (SUSE 9.2) | i686 | OK | OK | ||
| Solaris 2.9 | sparc | OK | OK | ||
| Linux (SUSE 10.0) | x86_64 | OK | OK | ||
| Windows Server 2003 | x86_64 | OK | OK | OK | |
| Windows XP | i686 | OK | OK | OK | |
| Mac OS X (10.4.6) | i686 | OK | OK |
| Package: affyio |
| Version: 1.1.8 |
| Command: /loc/biocbuild/1.9d/R/bin/R CMD check affyio_1.1.8.tar.gz |
| RetCode: 0 |
| Time: 34.8 seconds |
| Status: OK |
| CheckDir: affyio.Rcheck |
| Warnings: 0 |
* checking for working latex ... OK * using log directory '/loc/biocbuild/1.9d/Rpacks/affyio.Rcheck' * using R version 2.4.0 alpha (2006-09-10 r39242) * checking for file 'affyio/DESCRIPTION' ... OK * this is package 'affyio' version '1.1.8' * checking package dependencies ... OK * checking if this is a source package ... OK * checking whether package 'affyio' can be installed ... OK * checking package directory ... OK * checking for portable file names ... OK * checking for sufficient/correct file permissions ... OK * checking DESCRIPTION meta-information ... OK * checking top-level files ... OK * checking index information ... OK * checking package subdirectories ... OK * checking R files for syntax errors ... OK * checking R files for non-ASCII characters ... OK * checking whether the package can be loaded ... OK * checking whether the package can be loaded with stated dependencies ... OK * checking whether the name space can be loaded with stated dependencies ... OK * checking S3 generic/method consistency ... OK * checking replacement functions ... OK * checking foreign function calls ... OK * checking R code for possible problems ... OK * checking Rd files ... OK * checking Rd cross-references ... OK * checking for missing documentation entries ... OK * checking for code/documentation mismatches ... OK * checking Rd \usage sections ... OK * checking for CRLF line endings in C/C++/Fortran sources/headers ... OK * checking for portable compilation flags in Makevars ... OK * checking for portable use of $BLAS_LIBS ... OK * creating affyio-Ex.R ... OK * checking examples ... OK * creating affyio-manual.tex ... OK * checking affyio-manual.tex ... OK
affyio.Rcheck/00install.out:
* Installing *source* package 'affyio' ...
creating cache ./config.cache
checking how to run the C preprocessor... cc -E
checking for main in -lz... yes
checking for zlib.h... yes
checking if zlib version >= 1.1.3... yes
updating cache ./config.cache
creating ./config.status
creating src/Makevars
** libs
gcc -I/loc/biocbuild/1.9d/R/include -I/loc/biocbuild/1.9d/R/include -DHAVE_ZLIB=1 -I/usr/local/include -fpic -g -O2 -std=gnu99 -Wall -c read_abatch.c -o read_abatch.o
gcc -I/loc/biocbuild/1.9d/R/include -I/loc/biocbuild/1.9d/R/include -DHAVE_ZLIB=1 -I/usr/local/include -fpic -g -O2 -std=gnu99 -Wall -c read_bpmap.c -o read_bpmap.o
read_bpmap.c:50: warning: `fread_be_int32' defined but not used
read_bpmap.c:92: warning: `fread_be_int16' defined but not used
read_bpmap.c:111: warning: `fread_be_uint16' defined but not used
gcc -I/loc/biocbuild/1.9d/R/include -I/loc/biocbuild/1.9d/R/include -DHAVE_ZLIB=1 -I/usr/local/include -fpic -g -O2 -std=gnu99 -Wall -c read_cdffile2.c -o read_cdffile2.o
read_cdffile2.c: In function `read_cdf_Units':
read_cdffile2.c:721: warning: statement with no effect
read_cdffile2.c: In function `ReadtextCDFFileIntoRList':
read_cdffile2.c:1040: warning: `QCUNITSProbeInfoX' might be used uninitialized in this function
read_cdffile2.c:1041: warning: `QCUNITSProbeInfoY' might be used uninitialized in this function
read_cdffile2.c:1042: warning: `QCUNITSProbeInfoPROBE' might be used uninitialized in this function
read_cdffile2.c:1043: warning: `QCUNITSProbeInfoPL' might be used uninitialized in this function
read_cdffile2.c:1044: warning: `QCUNITSProbeInfoATOM' might be used uninitialized in this function
read_cdffile2.c:1045: warning: `QCUNITSProbeInfoINDEX' might be used uninitialized in this function
read_cdffile2.c:1046: warning: `QCUNITSProbeInfoPMFLAG' might be used uninitialized in this function
read_cdffile2.c:1047: warning: `QCUNITSProbeInfoBGFLAG' might be used uninitialized in this function
read_cdffile2.c: At top level:
read_cdffile2.c:363: warning: `token_ends_with' defined but not used
gcc -I/loc/biocbuild/1.9d/R/include -I/loc/biocbuild/1.9d/R/include -DHAVE_ZLIB=1 -I/usr/local/include -fpic -g -O2 -std=gnu99 -Wall -c read_cdf_xda.c -o read_cdf_xda.o
read_cdf_xda.c:263: warning: `fread_int16' defined but not used
read_cdf_xda.c:301: warning: `swap_float_4' defined but not used
read_cdf_xda.c:309: warning: `fread_float32' defined but not used
gcc -shared -L/usr/local/lib64 -o affyio.so read_abatch.o read_bpmap.o read_cdffile2.o read_cdf_xda.o -lz
** R
** save image
** help
>>> Building/Updating help pages for package 'affyio'
Formats: text html latex example
check.cdf.type text html latex
read.cdffile.list text html latex
read.celfile text html latex
read.celfile.header text html latex
read.celfile.probeintensity.matri text html latex
** building package indices ...
* DONE (affyio)