Back to the "Multiple platform build/check report"
| Package 100/205 | OS | Arch | BUILD | CHECK | BUILD BIN |
LMGene1.1.0Geun Cheol Lee | Linux (SUSE 9.2) | x86_64 | OK | [ OK ] | |
| Linux (SUSE 9.2) | i686 | OK | OK | ||
| Solaris 2.9 | sparc | OK | OK | ||
| Linux (SUSE 10.0) | x86_64 | OK | OK | ||
| Windows Server 2003 | x86_64 | OK | OK | OK | |
| Windows XP | i686 | OK | OK | skipped | |
| Mac OS X (10.4.6) | i686 | OK | OK |
| Package: LMGene |
| Version: 1.1.0 |
| Command: /loc/biocbuild/1.9d/R/bin/R CMD check LMGene_1.1.0.tar.gz |
| RetCode: 0 |
| Time: 217.4 seconds |
| Status: OK |
| CheckDir: LMGene.Rcheck |
| Warnings: 0 |
* checking for working latex ... OK * using log directory '/loc/biocbuild/1.9d/Rpacks/LMGene.Rcheck' * using R version 2.4.0 alpha (2006-09-10 r39242) * checking for file 'LMGene/DESCRIPTION' ... OK * this is package 'LMGene' version '1.1.0' * checking package dependencies ... OK * checking if this is a source package ... OK * checking whether package 'LMGene' can be installed ... OK * checking package directory ... OK * checking for portable file names ... OK * checking for sufficient/correct file permissions ... OK * checking DESCRIPTION meta-information ... OK * checking top-level files ... OK * checking index information ... OK * checking package subdirectories ... OK * checking R files for syntax errors ... OK * checking R files for non-ASCII characters ... OK * checking whether the package can be loaded ... OK * checking whether the package can be loaded with stated dependencies ... OK * checking S3 generic/method consistency ... OK * checking replacement functions ... OK * checking foreign function calls ... OK * checking R code for possible problems ... OK * checking Rd files ... OK * checking Rd cross-references ... OK * checking for missing documentation entries ... OK * checking for code/documentation mismatches ... OK * checking Rd \usage sections ... OK * creating LMGene-Ex.R ... OK * checking examples ... OK * checking package vignettes in 'inst/doc' ... OK * creating LMGene-manual.tex ... OK * checking LMGene-manual.tex ... OK
LMGene.Rcheck/00install.out:
* Installing *source* package 'LMGene' ...
** R
** data
** inst
** help
>>> Building/Updating help pages for package 'LMGene'
Formats: text html latex example
LMGene text html latex example
Smpd text html latex example
Smpd0 text html latex example
arrplot1 text html latex example
arrplotd text html latex example
arrplote text html latex example
beams text html latex example
dplot text html latex example
dplote text html latex example
genediff text html latex example
glog text html latex example
jggrad2 text html latex example
jglog text html latex example
lnorm text html latex example
mlm2lm text html latex example
msa text html latex example
msecalc text html latex example
neweS text html latex example
norm text html latex example
pvadjust text html latex example
rgplot text html latex example
rowaov text html latex example
rowlist text html latex example
tranest text html latex example
tranest2 text html latex example
vlist text html latex example
** building package indices ...
* DONE (LMGene)