* checking for file 'pcot2/DESCRIPTION' ... OK
* preparing 'pcot2':
* checking DESCRIPTION meta-information ... OK
* installing the package to re-build vignettes
* Installing *source* package 'pcot2' ...
** R
** inst
** help
 >>> Building/Updating help pages for package 'pcot2'
     Formats: text html latex example 
  aveProbe                          text    html    latex   example
  corplot                           text    html    latex   example
  corplot2                          text    html    latex   example
  getImat                           text    html    latex   example
  pcot2-internal                    text    html    latex
  pcot2                             text    html    latex   example
** building package indices ...
* DONE (pcot2)
* creating vignettes ... OK
* removing junk files
* checking for LF line-endings in source files
* checking for empty or unneeded directories
* building 'pcot2_1.1.1.tar.gz'