| 1.3.0Francesca Cordero | Linux (SUSE 9.2) | x86_64 | OK | OK |  | 
| Linux (SUSE 9.2) | i686 | OK | OK |  | 
| Solaris 2.9 | sparc | OK | OK |  | 
| Linux (SUSE 10.0) | x86_64 | [ OK ] | OK |  | 
| Windows Server 2003 | x86_64 | OK | OK | OK | 
| Windows XP | i686 | OK | OK | OK | 
| Mac OS X (10.4.6) | i686 | OK | OK |  | 
* checking for file 'applera/DESCRIPTION' ... OK
* preparing 'applera':
* checking DESCRIPTION meta-information ... OK
* installing the package to re-build vignettes
* Installing *source* package 'applera' ...
** R
** data
** inst
** preparing package for lazy loading
Loading required package: Biobase
Loading required package: tools
Welcome to Bioconductor
    Vignettes contain introductory material. To view, type
    'openVignette()' or start with 'help(Biobase)'. For details
    on reading vignettes, see the openVignette help page.
Loading required package: affy
Loading required package: affyio
Loading required package: genefilter
Loading required package: survival
Loading required package: splines
Loading required package: limma
Loading required package: geneplotter
Loading required package: annotate
KernSmooth 2.22 installed
Copyright M. P. Wand 1997
Loading required package: RColorBrewer
Loading required package: prada
Loading required package: grid
Loading required package: combinat
Attaching package: 'combinat'
	The following object(s) are masked from package:utils :
	 combn 
** help
 >>> Building/Updating help pages for package 'applera'
     Formats: text html latex example 
  CATPlots                          text    html    latex   example
  applera                           text    html    latex   example
  optFilter                         text    html    latex   example
  readAp                            text    html    latex   example
  test                              text    html    latex   example
** building package indices ...
* DONE (applera)
* creating vignettes ... OK
* removing junk files
* checking for LF line-endings in source files
* checking for empty or unneeded directories
* building 'applera_1.3.0.tar.gz'