Back to the "Multiple platform build/check report"
| Package 156/205 | OS | Arch | BUILD | CHECK | BUILD BIN |
Rdbi1.7.0Jianhua Zhang | Linux (SUSE 9.2) | x86_64 | OK | OK | |
| Linux (SUSE 9.2) | i686 | OK | OK | ||
| Solaris 2.9 | sparc | OK | OK | ||
| Linux (SUSE 10.0) | x86_64 | [ OK ] | OK | ||
| Windows Server 2003 | x86_64 | OK | OK | OK | |
| Windows XP | i686 | OK | OK | skipped | |
| Mac OS X (10.4.6) | i686 | OK | OK |
| Package: Rdbi |
| Version: 1.7.0 |
| Command: /home/biocbuild/1.9d/R/bin/R CMD build Rdbi |
| RetCode: 0 |
| Time: 0.5 seconds |
| Status: OK |
| PackageFile: Rdbi_1.7.0.tar.gz |
* checking for file 'Rdbi/DESCRIPTION' ... OK * preparing 'Rdbi': * checking DESCRIPTION meta-information ... OK * checking whether 'INDEX' is up-to-date ... NO * use '--force' to overwrite the existing 'INDEX' * removing junk files * checking for LF line-endings in source files * checking for empty or unneeded directories * building 'Rdbi_1.7.0.tar.gz'