1.9.0Matthias Futschik | Linux (SUSE 9.2)  | x86_64 |  OK  |  OK  |  | 
| Linux (SUSE 9.2)  | i686 |  OK  |  OK  |  | 
| Solaris 2.9  | sparc |  OK  |  OK  |  | 
| Linux (SUSE 10.0)  | x86_64 | [ OK ] |  OK  |  | 
| Windows Server 2003  | x86_64 |  OK  |  OK  |  OK  | 
| Windows XP  | i686 |  OK  |  OK  | skipped | 
| Mac OS X (10.4.6)  | i686 |  OK  |  OK  |  | 
* checking for file 'OLIN/DESCRIPTION' ... OK
* preparing 'OLIN':
* checking DESCRIPTION meta-information ... OK
* checking whether 'INDEX' is up-to-date ... NO
* use '--force' to overwrite the existing 'INDEX'
* removing junk files
* checking for LF line-endings in source files
* checking for empty or unneeded directories
* building 'OLIN_1.9.0.tar.gz'