Back to the "Multiple platform build/check report"
| Package 72/205 | OS | Arch | BUILD | CHECK | BUILD BIN |
GeneTS2.11.1Korbinian Strimmer | Linux (SUSE 9.2) | x86_64 | OK | OK | |
| Linux (SUSE 9.2) | i686 | OK | OK | ||
| Solaris 2.9 | sparc | OK | ERROR | ||
| Linux (SUSE 10.0) | x86_64 | [ OK ] | OK | ||
| Windows Server 2003 | x86_64 | OK | OK | OK | |
| Windows XP | i686 | OK | OK | skipped | |
| Mac OS X (10.4.6) | i686 | OK | OK |
| Package: GeneTS |
| Version: 2.11.1 |
| Command: /home/biocbuild/1.9d/R/bin/R CMD build GeneTS |
| RetCode: 0 |
| Time: 0.5 seconds |
| Status: OK |
| PackageFile: GeneTS_2.11.1.tar.gz |
* checking for file 'GeneTS/DESCRIPTION' ... OK * preparing 'GeneTS': * checking DESCRIPTION meta-information ... OK * removing junk files * checking for LF line-endings in source files * checking for empty or unneeded directories * building 'GeneTS_2.11.1.tar.gz'