Back to the "Multiple platform build/check report"
| Package 51/205 | OS | Arch | BUILD | CHECK | BUILD BIN | 
| DynDoc1.11.2Biocore Team | Linux (SUSE 9.2) | x86_64 | OK | OK | |
| Linux (SUSE 9.2) | i686 | OK | OK | ||
| Solaris 2.9 | sparc | OK | OK | ||
| Linux (SUSE 10.0) | x86_64 | OK | [ OK ] | ||
| Windows Server 2003 | x86_64 | OK | OK | OK | |
| Windows XP | i686 | OK | OK | skipped | |
| Mac OS X (10.4.6) | i686 | OK | OK | 
| Package: DynDoc | 
| Version: 1.11.2 | 
| Command: /home/biocbuild/1.9d/R/bin/R CMD check DynDoc_1.11.2.tar.gz | 
| RetCode: 0 | 
| Time: 16.5 seconds | 
| Status: OK | 
| CheckDir: DynDoc.Rcheck | 
| Warnings: 0 | 
* checking for working latex ... OK * using log directory '/home/biocbuild/1.9d/Rpacks/DynDoc.Rcheck' * using R version 2.4.0 alpha (2006-09-10 r39242) * checking for file 'DynDoc/DESCRIPTION' ... OK * this is package 'DynDoc' version '1.11.2' * checking package dependencies ... OK * checking if this is a source package ... OK * checking whether package 'DynDoc' can be installed ... OK * checking package directory ... OK * checking for portable file names ... OK * checking for sufficient/correct file permissions ... OK * checking DESCRIPTION meta-information ... OK * checking top-level files ... OK * checking index information ... OK * checking package subdirectories ... OK * checking R files for syntax errors ... OK * checking R files for non-ASCII characters ... OK * checking whether the package can be loaded ... OK * checking whether the package can be loaded with stated dependencies ... OK * checking whether the name space can be loaded with stated dependencies ... OK * checking S3 generic/method consistency ... OK * checking replacement functions ... OK * checking foreign function calls ... OK * checking R code for possible problems ... OK * checking Rd files ... OK * checking Rd cross-references ... OK * checking for missing documentation entries ... OK * checking for code/documentation mismatches ... OK * checking Rd \usage sections ... OK * creating DynDoc-Ex.R ... OK * checking examples ... OK * creating DynDoc-manual.tex ... OK * checking DynDoc-manual.tex ... OK
DynDoc.Rcheck/00install.out:
* Installing *source* package 'DynDoc' ...
** R
** save image
Loading required package: tools
Creating a new generic function for 'summary' in 'DynDoc'
Warning message:
undefined slot classes in definition of "Vignette": vigPkgVersion(class "VersionNumber") in: .completeClassSlots(ClassDef, where) 
** help
 >>> Building/Updating help pages for package 'DynDoc'
     Formats: text html latex example 
  DynDoc-class                      text    html    latex
  SweaveOptions-class               text    html    latex
  Vignette-class                    text    html    latex
  chunkList-class                   text    html    latex   example
  codeChunk-class                   text    html    latex   example
  getPkgVigList                     text    html    latex   example
  getVignette                       text    html    latex
  getVignetteCode                   text    html    latex
  getVignetteHeader                 text    html    latex
  tangleToR                         text    html    latex   example
  vignetteCode-class                text    html    latex
** building package indices ...
* DONE (DynDoc)