| 1.11.0James W. MacDonald | Linux (SUSE 9.2) | x86_64 | OK | OK |  | 
| Linux (SUSE 9.2) | i686 | OK | OK |  | 
| Solaris 2.9 | sparc | OK | OK |  | 
| Linux (SUSE 10.0) | x86_64 | OK | OK |  | 
| Windows Server 2003 | x86_64 | ERROR | skipped | skipped | 
| Windows XP | i686 | ERROR | skipped | skipped | 
| Mac OS X (10.4.6) | i686 | [ OK ] | OK |  | 
* checking for file 'makecdfenv/DESCRIPTION' ... OK
* preparing 'makecdfenv':
* checking DESCRIPTION meta-information ... OK
* cleaning src
* checking whether 'INDEX' is up-to-date ... NO
* use '--force' to overwrite the existing 'INDEX'
* installing the package to re-build vignettes
* Installing *source* package 'makecdfenv' ...
creating cache ./config.cache
checking how to run the C preprocessor... cc -E
checking for main in -lz... yes
checking for zlib.h... yes
checking if zlib version >= 1.1.3... yes
updating cache ./config.cache
creating ./config.status
creating src/Makevars
** libs
** arch - i386
gcc-4.0 -arch i386 -I/Library/Frameworks/R.framework/Resources/include -I/Library/Frameworks/R.framework/Resources/include/i386 -DHAVE_ZLIB=1  -msse3  -D__NO_MATH_INLINES  -fPIC  -g -O2 -std=gnu99 -march=pentium-m -mtune=prescott -c read_cdffile.c -o read_cdffile.o
gcc-4.0 -arch i386 -dynamiclib -Wl,-macosx_version_min -Wl,10.3 -undefined dynamic_lookup -single_module -multiply_defined suppress -L/usr/local/lib -o makecdfenv.so read_cdffile.o -lz   -L/Library/Frameworks/R.framework/Resources/lib/i386 -lR -dylib_file libRblas.dylib:/Library/Frameworks/R.framework/Resources/lib/i386/libRblas.dylib
** R
** inst
** save image
Loading required package: Biobase
Loading required package: tools
Welcome to Bioconductor
    Vignettes contain introductory material. To view, type
    'openVignette()' or start with 'help(Biobase)'. For details
    on reading vignettes, see the openVignette help page.
Loading required package: affy
Loading required package: affyio
** help
 >>> Building/Updating help pages for package 'makecdfenv'
     Formats: text html latex example 
  Cdf-class                         text    html    latex
  getInfoInAffyFile                 text    html    latex
  make.cdf.env                      text    html    latex   example
  make.cdf.package                  text    html    latex   example
  pmormm                            text    html    latex
  read.cdffile                      text    html    latex   example
** building package indices ...
* DONE (makecdfenv)
* creating vignettes ... OK
* cleaning src
* removing junk files
* checking for LF line-endings in source files
* checking for empty or unneeded directories
* building 'makecdfenv_1.11.0.tar.gz'