| 1.5.0Effi Kenigsberg | Linux (SUSE 9.2) | x86_64 | OK | OK |  | 
| Linux (SUSE 9.2) | i686 | OK | OK |  | 
| Solaris 2.9 | sparc | OK | OK |  | 
| Linux (SUSE 10.0) | x86_64 | OK | OK |  | 
| Windows Server 2003 | x86_64 | OK | OK | OK | 
| Windows XP | i686 | OK | OK | skipped | 
| Mac OS X (10.4.6) | i686 | [ OK ] | OK |  | 
* checking for file 'fdrame/DESCRIPTION' ... OK
* preparing 'fdrame':
* checking DESCRIPTION meta-information ... OK
* cleaning src
* installing the package to re-build vignettes
* Installing *source* package 'fdrame' ...
** libs
** arch - i386
gcc-4.0 -arch i386 -I/Library/Frameworks/R.framework/Resources/include -I/Library/Frameworks/R.framework/Resources/include/i386  -msse3  -D__NO_MATH_INLINES  -fPIC  -g -O2 -std=gnu99 -march=pentium-m -mtune=prescott -c fdr.c -o fdr.o
gcc-4.0 -arch i386 -dynamiclib -Wl,-macosx_version_min -Wl,10.3 -undefined dynamic_lookup -single_module -multiply_defined suppress -L/usr/local/lib -o fdrame.so fdr.o   -L/Library/Frameworks/R.framework/Resources/lib/i386 -lR -dylib_file libRblas.dylib:/Library/Frameworks/R.framework/Resources/lib/i386/libRblas.dylib
** arch - ppc
gcc-4.0 -arch ppc -I/Library/Frameworks/R.framework/Resources/include -I/Library/Frameworks/R.framework/Resources/include/ppc  -I/usr/local/include    -fPIC  -g -O2 -std=gnu99 -c fdr.c -o fdr.o
gcc-4.0 -arch ppc -dynamiclib -Wl,-macosx_version_min -Wl,10.3 -undefined dynamic_lookup -single_module -multiply_defined suppress -L/usr/local/lib -o fdrame.so fdr.o   -L/Library/Frameworks/R.framework/Resources/lib/ppc -lR -dylib_file libRblas.dylib:/Library/Frameworks/R.framework/Resources/lib/ppc/libRblas.dylib
** R
** data
** inst
** preparing package for lazy loading
** help
 >>> Building/Updating help pages for package 'fdrame'
     Formats: text html latex example 
  design                            text    html    latex   example
  exp.arr                           text    html    latex   example
  fdr-internal                      text    html    latex
  fdrgui                            text    html    latex   example
  fdrma                             text    html    latex   example
** building package indices ...
* DONE (fdrame)
* creating vignettes ... OK
* cleaning src
* removing junk files
* checking for LF line-endings in source files
* checking for empty or unneeded directories
WARNING: Removing directory 'fdrame/html' which should only occur in an
  installed package
* building 'fdrame_1.5.0.tar.gz'