* checking for file 'affyPLM/DESCRIPTION' ... OK
* preparing 'affyPLM':
* checking DESCRIPTION meta-information ... OK
* cleaning src
* checking whether 'INDEX' is up-to-date ... NO
* use '--force' to overwrite the existing 'INDEX'
* installing the package to re-build vignettes
* Installing *source* package 'affyPLM' ...
** libs
** arch - i386
gcc-4.0 -arch i386 -I/Library/Frameworks/R.framework/Resources/include -I/Library/Frameworks/R.framework/Resources/include/i386 -msse3 -D__NO_MATH_INLINES -fPIC -g -O2 -std=gnu99 -march=pentium-m -mtune=prescott -c LESN.c -o LESN.o
gcc-4.0 -arch i386 -I/Library/Frameworks/R.framework/Resources/include -I/Library/Frameworks/R.framework/Resources/include/i386 -msse3 -D__NO_MATH_INLINES -fPIC -g -O2 -std=gnu99 -march=pentium-m -mtune=prescott -c PLM_modelmatrix.c -o PLM_modelmatrix.o
gcc-4.0 -arch i386 -I/Library/Frameworks/R.framework/Resources/include -I/Library/Frameworks/R.framework/Resources/include/i386 -msse3 -D__NO_MATH_INLINES -fPIC -g -O2 -std=gnu99 -march=pentium-m -mtune=prescott -c R_rlm_interfaces.c -o R_rlm_interfaces.o
gcc-4.0 -arch i386 -I/Library/Frameworks/R.framework/Resources/include -I/Library/Frameworks/R.framework/Resources/include/i386 -msse3 -D__NO_MATH_INLINES -fPIC -g -O2 -std=gnu99 -march=pentium-m -mtune=prescott -c SCAB.c -o SCAB.o
gcc-4.0 -arch i386 -I/Library/Frameworks/R.framework/Resources/include -I/Library/Frameworks/R.framework/Resources/include/i386 -msse3 -D__NO_MATH_INLINES -fPIC -g -O2 -std=gnu99 -march=pentium-m -mtune=prescott -c avg_log.c -o avg_log.o
gcc-4.0 -arch i386 -I/Library/Frameworks/R.framework/Resources/include -I/Library/Frameworks/R.framework/Resources/include/i386 -msse3 -D__NO_MATH_INLINES -fPIC -g -O2 -std=gnu99 -march=pentium-m -mtune=prescott -c biweight.c -o biweight.o
gcc-4.0 -arch i386 -I/Library/Frameworks/R.framework/Resources/include -I/Library/Frameworks/R.framework/Resources/include/i386 -msse3 -D__NO_MATH_INLINES -fPIC -g -O2 -std=gnu99 -march=pentium-m -mtune=prescott -c chipbackground.c -o chipbackground.o
gcc-4.0 -arch i386 -I/Library/Frameworks/R.framework/Resources/include -I/Library/Frameworks/R.framework/Resources/include/i386 -msse3 -D__NO_MATH_INLINES -fPIC -g -O2 -std=gnu99 -march=pentium-m -mtune=prescott -c common_types.c -o common_types.o
gcc-4.0 -arch i386 -I/Library/Frameworks/R.framework/Resources/include -I/Library/Frameworks/R.framework/Resources/include/i386 -msse3 -D__NO_MATH_INLINES -fPIC -g -O2 -std=gnu99 -march=pentium-m -mtune=prescott -c do_PLMrlm.c -o do_PLMrlm.o
gcc-4.0 -arch i386 -I/Library/Frameworks/R.framework/Resources/include -I/Library/Frameworks/R.framework/Resources/include/i386 -msse3 -D__NO_MATH_INLINES -fPIC -g -O2 -std=gnu99 -march=pentium-m -mtune=prescott -c do_PLMrma.c -o do_PLMrma.o
gcc-4.0 -arch i386 -I/Library/Frameworks/R.framework/Resources/include -I/Library/Frameworks/R.framework/Resources/include/i386 -msse3 -D__NO_MATH_INLINES -fPIC -g -O2 -std=gnu99 -march=pentium-m -mtune=prescott -c do_PLMthreestep.c -o do_PLMthreestep.o
gcc-4.0 -arch i386 -I/Library/Frameworks/R.framework/Resources/include -I/Library/Frameworks/R.framework/Resources/include/i386 -msse3 -D__NO_MATH_INLINES -fPIC -g -O2 -std=gnu99 -march=pentium-m -mtune=prescott -c idealmismatch.c -o idealmismatch.o
gcc-4.0 -arch i386 -I/Library/Frameworks/R.framework/Resources/include -I/Library/Frameworks/R.framework/Resources/include/i386 -msse3 -D__NO_MATH_INLINES -fPIC -g -O2 -std=gnu99 -march=pentium-m -mtune=prescott -c lm.c -o lm.o
gcc-4.0 -arch i386 -I/Library/Frameworks/R.framework/Resources/include -I/Library/Frameworks/R.framework/Resources/include/i386 -msse3 -D__NO_MATH_INLINES -fPIC -g -O2 -std=gnu99 -march=pentium-m -mtune=prescott -c lm_threestep.c -o lm_threestep.o
gcc-4.0 -arch i386 -I/Library/Frameworks/R.framework/Resources/include -I/Library/Frameworks/R.framework/Resources/include/i386 -msse3 -D__NO_MATH_INLINES -fPIC -g -O2 -std=gnu99 -march=pentium-m -mtune=prescott -c log_avg.c -o log_avg.o
gcc-4.0 -arch i386 -I/Library/Frameworks/R.framework/Resources/include -I/Library/Frameworks/R.framework/Resources/include/i386 -msse3 -D__NO_MATH_INLINES -fPIC -g -O2 -std=gnu99 -march=pentium-m -mtune=prescott -c matrix_functions.c -o matrix_functions.o
gcc-4.0 -arch i386 -I/Library/Frameworks/R.framework/Resources/include -I/Library/Frameworks/R.framework/Resources/include/i386 -msse3 -D__NO_MATH_INLINES -fPIC -g -O2 -std=gnu99 -march=pentium-m -mtune=prescott -c medianPM.c -o medianPM.o
gcc-4.0 -arch i386 -I/Library/Frameworks/R.framework/Resources/include -I/Library/Frameworks/R.framework/Resources/include/i386 -msse3 -D__NO_MATH_INLINES -fPIC -g -O2 -std=gnu99 -march=pentium-m -mtune=prescott -c median_logPM.c -o median_logPM.o
gcc-4.0 -arch i386 -I/Library/Frameworks/R.framework/Resources/include -I/Library/Frameworks/R.framework/Resources/include/i386 -msse3 -D__NO_MATH_INLINES -fPIC -g -O2 -std=gnu99 -march=pentium-m -mtune=prescott -c medianpolish.c -o medianpolish.o
gcc-4.0 -arch i386 -I/Library/Frameworks/R.framework/Resources/include -I/Library/Frameworks/R.framework/Resources/include/i386 -msse3 -D__NO_MATH_INLINES -fPIC -g -O2 -std=gnu99 -march=pentium-m -mtune=prescott -c nthLargestPM.c -o nthLargestPM.o
gcc-4.0 -arch i386 -I/Library/Frameworks/R.framework/Resources/include -I/Library/Frameworks/R.framework/Resources/include/i386 -msse3 -D__NO_MATH_INLINES -fPIC -g -O2 -std=gnu99 -march=pentium-m -mtune=prescott -c preprocess.c -o preprocess.o
gcc-4.0 -arch i386 -I/Library/Frameworks/R.framework/Resources/include -I/Library/Frameworks/R.framework/Resources/include/i386 -msse3 -D__NO_MATH_INLINES -fPIC -g -O2 -std=gnu99 -march=pentium-m -mtune=prescott -c psi_fns.c -o psi_fns.o
gcc-4.0 -arch i386 -I/Library/Frameworks/R.framework/Resources/include -I/Library/Frameworks/R.framework/Resources/include/i386 -msse3 -D__NO_MATH_INLINES -fPIC -g -O2 -std=gnu99 -march=pentium-m -mtune=prescott -c qnorm.c -o qnorm.o
gcc-4.0 -arch i386 -I/Library/Frameworks/R.framework/Resources/include -I/Library/Frameworks/R.framework/Resources/include/i386 -msse3 -D__NO_MATH_INLINES -fPIC -g -O2 -std=gnu99 -march=pentium-m -mtune=prescott -c qnorm_probeset.c -o qnorm_probeset.o
gcc-4.0 -arch i386 -I/Library/Frameworks/R.framework/Resources/include -I/Library/Frameworks/R.framework/Resources/include/i386 -msse3 -D__NO_MATH_INLINES -fPIC -g -O2 -std=gnu99 -march=pentium-m -mtune=prescott -c read_rmaexpress.c -o read_rmaexpress.o
gcc-4.0 -arch i386 -I/Library/Frameworks/R.framework/Resources/include -I/Library/Frameworks/R.framework/Resources/include/i386 -msse3 -D__NO_MATH_INLINES -fPIC -g -O2 -std=gnu99 -march=pentium-m -mtune=prescott -c rlm.c -o rlm.o
gcc-4.0 -arch i386 -I/Library/Frameworks/R.framework/Resources/include -I/Library/Frameworks/R.framework/Resources/include/i386 -msse3 -D__NO_MATH_INLINES -fPIC -g -O2 -std=gnu99 -march=pentium-m -mtune=prescott -c rlm_PLM.c -o rlm_PLM.o
gcc-4.0 -arch i386 -I/Library/Frameworks/R.framework/Resources/include -I/Library/Frameworks/R.framework/Resources/include/i386 -msse3 -D__NO_MATH_INLINES -fPIC -g -O2 -std=gnu99 -march=pentium-m -mtune=prescott -c rlm_anova.c -o rlm_anova.o
gcc-4.0 -arch i386 -I/Library/Frameworks/R.framework/Resources/include -I/Library/Frameworks/R.framework/Resources/include/i386 -msse3 -D__NO_MATH_INLINES -fPIC -g -O2 -std=gnu99 -march=pentium-m -mtune=prescott -c rlm_se.c -o rlm_se.o
gcc-4.0 -arch i386 -I/Library/Frameworks/R.framework/Resources/include -I/Library/Frameworks/R.framework/Resources/include/i386 -msse3 -D__NO_MATH_INLINES -fPIC -g -O2 -std=gnu99 -march=pentium-m -mtune=prescott -c rlm_threestep.c -o rlm_threestep.o
gcc-4.0 -arch i386 -I/Library/Frameworks/R.framework/Resources/include -I/Library/Frameworks/R.framework/Resources/include/i386 -msse3 -D__NO_MATH_INLINES -fPIC -g -O2 -std=gnu99 -march=pentium-m -mtune=prescott -c rmaPLM_pseudo.c -o rmaPLM_pseudo.o
gcc-4.0 -arch i386 -I/Library/Frameworks/R.framework/Resources/include -I/Library/Frameworks/R.framework/Resources/include/i386 -msse3 -D__NO_MATH_INLINES -fPIC -g -O2 -std=gnu99 -march=pentium-m -mtune=prescott -c rma_PLM.c -o rma_PLM.o
gcc-4.0 -arch i386 -I/Library/Frameworks/R.framework/Resources/include -I/Library/Frameworks/R.framework/Resources/include/i386 -msse3 -D__NO_MATH_INLINES -fPIC -g -O2 -std=gnu99 -march=pentium-m -mtune=prescott -c rma_background2.c -o rma_background2.o
gcc-4.0 -arch i386 -I/Library/Frameworks/R.framework/Resources/include -I/Library/Frameworks/R.framework/Resources/include/i386 -msse3 -D__NO_MATH_INLINES -fPIC -g -O2 -std=gnu99 -march=pentium-m -mtune=prescott -c rma_common.c -o rma_common.o
gcc-4.0 -arch i386 -I/Library/Frameworks/R.framework/Resources/include -I/Library/Frameworks/R.framework/Resources/include/i386 -msse3 -D__NO_MATH_INLINES -fPIC -g -O2 -std=gnu99 -march=pentium-m -mtune=prescott -c scaling.c -o scaling.o
gcc-4.0 -arch i386 -I/Library/Frameworks/R.framework/Resources/include -I/Library/Frameworks/R.framework/Resources/include/i386 -msse3 -D__NO_MATH_INLINES -fPIC -g -O2 -std=gnu99 -march=pentium-m -mtune=prescott -c threestep.c -o threestep.o
gcc-4.0 -arch i386 -I/Library/Frameworks/R.framework/Resources/include -I/Library/Frameworks/R.framework/Resources/include/i386 -msse3 -D__NO_MATH_INLINES -fPIC -g -O2 -std=gnu99 -march=pentium-m -mtune=prescott -c threestep_PLM.c -o threestep_PLM.o
gcc-4.0 -arch i386 -I/Library/Frameworks/R.framework/Resources/include -I/Library/Frameworks/R.framework/Resources/include/i386 -msse3 -D__NO_MATH_INLINES -fPIC -g -O2 -std=gnu99 -march=pentium-m -mtune=prescott -c threestep_common.c -o threestep_common.o
gcc-4.0 -arch i386 -I/Library/Frameworks/R.framework/Resources/include -I/Library/Frameworks/R.framework/Resources/include/i386 -msse3 -D__NO_MATH_INLINES -fPIC -g -O2 -std=gnu99 -march=pentium-m -mtune=prescott -c threestep_summary.c -o threestep_summary.o
gcc-4.0 -arch i386 -I/Library/Frameworks/R.framework/Resources/include -I/Library/Frameworks/R.framework/Resources/include/i386 -msse3 -D__NO_MATH_INLINES -fPIC -g -O2 -std=gnu99 -march=pentium-m -mtune=prescott -c threestep_summary_methods.c -o threestep_summary_methods.o
gcc-4.0 -arch i386 -I/Library/Frameworks/R.framework/Resources/include -I/Library/Frameworks/R.framework/Resources/include/i386 -msse3 -D__NO_MATH_INLINES -fPIC -g -O2 -std=gnu99 -march=pentium-m -mtune=prescott -c transfns.c -o transfns.o
gcc-4.0 -arch i386 -I/Library/Frameworks/R.framework/Resources/include -I/Library/Frameworks/R.framework/Resources/include/i386 -msse3 -D__NO_MATH_INLINES -fPIC -g -O2 -std=gnu99 -march=pentium-m -mtune=prescott -c weightedkerneldensity.c -o weightedkerneldensity.o
gcc-4.0 -arch i386 -dynamiclib -Wl,-macosx_version_min -Wl,10.3 -undefined dynamic_lookup -single_module -multiply_defined suppress -L/usr/local/lib -o affyPLM.so LESN.o PLM_modelmatrix.o R_rlm_interfaces.o SCAB.o avg_log.o biweight.o chipbackground.o common_types.o do_PLMrlm.o do_PLMrma.o do_PLMthreestep.o idealmismatch.o lm.o lm_threestep.o log_avg.o matrix_functions.o medianPM.o median_logPM.o medianpolish.o nthLargestPM.o preprocess.o psi_fns.o qnorm.o qnorm_probeset.o read_rmaexpress.o rlm.o rlm_PLM.o rlm_anova.o rlm_se.o rlm_threestep.o rmaPLM_pseudo.o rma_PLM.o rma_background2.o rma_common.o scaling.o threestep.o threestep_PLM.o threestep_common.o threestep_summary.o threestep_summary_methods.o transfns.o weightedkerneldensity.o -L/Library/Frameworks/R.framework/Resources/lib/i386 -lRlapack -L/Library/Frameworks/R.framework/Resources/lib/i386 -lRblas -L/Library/Frameworks/R.framework/Resources/lib/i386 -lR -dylib_file libRblas.dylib:/Library/Frameworks/R.framework/Resources/lib/i386/libRblas.dylib
** arch - ppc
gcc-4.0 -arch ppc -I/Library/Frameworks/R.framework/Resources/include -I/Library/Frameworks/R.framework/Resources/include/ppc -I/usr/local/include -fPIC -g -O2 -std=gnu99 -c LESN.c -o LESN.o
gcc-4.0 -arch ppc -I/Library/Frameworks/R.framework/Resources/include -I/Library/Frameworks/R.framework/Resources/include/ppc -I/usr/local/include -fPIC -g -O2 -std=gnu99 -c PLM_modelmatrix.c -o PLM_modelmatrix.o
gcc-4.0 -arch ppc -I/Library/Frameworks/R.framework/Resources/include -I/Library/Frameworks/R.framework/Resources/include/ppc -I/usr/local/include -fPIC -g -O2 -std=gnu99 -c R_rlm_interfaces.c -o R_rlm_interfaces.o
gcc-4.0 -arch ppc -I/Library/Frameworks/R.framework/Resources/include -I/Library/Frameworks/R.framework/Resources/include/ppc -I/usr/local/include -fPIC -g -O2 -std=gnu99 -c SCAB.c -o SCAB.o
gcc-4.0 -arch ppc -I/Library/Frameworks/R.framework/Resources/include -I/Library/Frameworks/R.framework/Resources/include/ppc -I/usr/local/include -fPIC -g -O2 -std=gnu99 -c avg_log.c -o avg_log.o
gcc-4.0 -arch ppc -I/Library/Frameworks/R.framework/Resources/include -I/Library/Frameworks/R.framework/Resources/include/ppc -I/usr/local/include -fPIC -g -O2 -std=gnu99 -c biweight.c -o biweight.o
gcc-4.0 -arch ppc -I/Library/Frameworks/R.framework/Resources/include -I/Library/Frameworks/R.framework/Resources/include/ppc -I/usr/local/include -fPIC -g -O2 -std=gnu99 -c chipbackground.c -o chipbackground.o
gcc-4.0 -arch ppc -I/Library/Frameworks/R.framework/Resources/include -I/Library/Frameworks/R.framework/Resources/include/ppc -I/usr/local/include -fPIC -g -O2 -std=gnu99 -c common_types.c -o common_types.o
gcc-4.0 -arch ppc -I/Library/Frameworks/R.framework/Resources/include -I/Library/Frameworks/R.framework/Resources/include/ppc -I/usr/local/include -fPIC -g -O2 -std=gnu99 -c do_PLMrlm.c -o do_PLMrlm.o
gcc-4.0 -arch ppc -I/Library/Frameworks/R.framework/Resources/include -I/Library/Frameworks/R.framework/Resources/include/ppc -I/usr/local/include -fPIC -g -O2 -std=gnu99 -c do_PLMrma.c -o do_PLMrma.o
gcc-4.0 -arch ppc -I/Library/Frameworks/R.framework/Resources/include -I/Library/Frameworks/R.framework/Resources/include/ppc -I/usr/local/include -fPIC -g -O2 -std=gnu99 -c do_PLMthreestep.c -o do_PLMthreestep.o
gcc-4.0 -arch ppc -I/Library/Frameworks/R.framework/Resources/include -I/Library/Frameworks/R.framework/Resources/include/ppc -I/usr/local/include -fPIC -g -O2 -std=gnu99 -c idealmismatch.c -o idealmismatch.o
gcc-4.0 -arch ppc -I/Library/Frameworks/R.framework/Resources/include -I/Library/Frameworks/R.framework/Resources/include/ppc -I/usr/local/include -fPIC -g -O2 -std=gnu99 -c lm.c -o lm.o
gcc-4.0 -arch ppc -I/Library/Frameworks/R.framework/Resources/include -I/Library/Frameworks/R.framework/Resources/include/ppc -I/usr/local/include -fPIC -g -O2 -std=gnu99 -c lm_threestep.c -o lm_threestep.o
gcc-4.0 -arch ppc -I/Library/Frameworks/R.framework/Resources/include -I/Library/Frameworks/R.framework/Resources/include/ppc -I/usr/local/include -fPIC -g -O2 -std=gnu99 -c log_avg.c -o log_avg.o
gcc-4.0 -arch ppc -I/Library/Frameworks/R.framework/Resources/include -I/Library/Frameworks/R.framework/Resources/include/ppc -I/usr/local/include -fPIC -g -O2 -std=gnu99 -c matrix_functions.c -o matrix_functions.o
gcc-4.0 -arch ppc -I/Library/Frameworks/R.framework/Resources/include -I/Library/Frameworks/R.framework/Resources/include/ppc -I/usr/local/include -fPIC -g -O2 -std=gnu99 -c medianPM.c -o medianPM.o
gcc-4.0 -arch ppc -I/Library/Frameworks/R.framework/Resources/include -I/Library/Frameworks/R.framework/Resources/include/ppc -I/usr/local/include -fPIC -g -O2 -std=gnu99 -c median_logPM.c -o median_logPM.o
gcc-4.0 -arch ppc -I/Library/Frameworks/R.framework/Resources/include -I/Library/Frameworks/R.framework/Resources/include/ppc -I/usr/local/include -fPIC -g -O2 -std=gnu99 -c medianpolish.c -o medianpolish.o
gcc-4.0 -arch ppc -I/Library/Frameworks/R.framework/Resources/include -I/Library/Frameworks/R.framework/Resources/include/ppc -I/usr/local/include -fPIC -g -O2 -std=gnu99 -c nthLargestPM.c -o nthLargestPM.o
gcc-4.0 -arch ppc -I/Library/Frameworks/R.framework/Resources/include -I/Library/Frameworks/R.framework/Resources/include/ppc -I/usr/local/include -fPIC -g -O2 -std=gnu99 -c preprocess.c -o preprocess.o
gcc-4.0 -arch ppc -I/Library/Frameworks/R.framework/Resources/include -I/Library/Frameworks/R.framework/Resources/include/ppc -I/usr/local/include -fPIC -g -O2 -std=gnu99 -c psi_fns.c -o psi_fns.o
gcc-4.0 -arch ppc -I/Library/Frameworks/R.framework/Resources/include -I/Library/Frameworks/R.framework/Resources/include/ppc -I/usr/local/include -fPIC -g -O2 -std=gnu99 -c qnorm.c -o qnorm.o
gcc-4.0 -arch ppc -I/Library/Frameworks/R.framework/Resources/include -I/Library/Frameworks/R.framework/Resources/include/ppc -I/usr/local/include -fPIC -g -O2 -std=gnu99 -c qnorm_probeset.c -o qnorm_probeset.o
gcc-4.0 -arch ppc -I/Library/Frameworks/R.framework/Resources/include -I/Library/Frameworks/R.framework/Resources/include/ppc -I/usr/local/include -fPIC -g -O2 -std=gnu99 -c read_rmaexpress.c -o read_rmaexpress.o
gcc-4.0 -arch ppc -I/Library/Frameworks/R.framework/Resources/include -I/Library/Frameworks/R.framework/Resources/include/ppc -I/usr/local/include -fPIC -g -O2 -std=gnu99 -c rlm.c -o rlm.o
gcc-4.0 -arch ppc -I/Library/Frameworks/R.framework/Resources/include -I/Library/Frameworks/R.framework/Resources/include/ppc -I/usr/local/include -fPIC -g -O2 -std=gnu99 -c rlm_PLM.c -o rlm_PLM.o
gcc-4.0 -arch ppc -I/Library/Frameworks/R.framework/Resources/include -I/Library/Frameworks/R.framework/Resources/include/ppc -I/usr/local/include -fPIC -g -O2 -std=gnu99 -c rlm_anova.c -o rlm_anova.o
gcc-4.0 -arch ppc -I/Library/Frameworks/R.framework/Resources/include -I/Library/Frameworks/R.framework/Resources/include/ppc -I/usr/local/include -fPIC -g -O2 -std=gnu99 -c rlm_se.c -o rlm_se.o
gcc-4.0 -arch ppc -I/Library/Frameworks/R.framework/Resources/include -I/Library/Frameworks/R.framework/Resources/include/ppc -I/usr/local/include -fPIC -g -O2 -std=gnu99 -c rlm_threestep.c -o rlm_threestep.o
gcc-4.0 -arch ppc -I/Library/Frameworks/R.framework/Resources/include -I/Library/Frameworks/R.framework/Resources/include/ppc -I/usr/local/include -fPIC -g -O2 -std=gnu99 -c rmaPLM_pseudo.c -o rmaPLM_pseudo.o
gcc-4.0 -arch ppc -I/Library/Frameworks/R.framework/Resources/include -I/Library/Frameworks/R.framework/Resources/include/ppc -I/usr/local/include -fPIC -g -O2 -std=gnu99 -c rma_PLM.c -o rma_PLM.o
gcc-4.0 -arch ppc -I/Library/Frameworks/R.framework/Resources/include -I/Library/Frameworks/R.framework/Resources/include/ppc -I/usr/local/include -fPIC -g -O2 -std=gnu99 -c rma_background2.c -o rma_background2.o
gcc-4.0 -arch ppc -I/Library/Frameworks/R.framework/Resources/include -I/Library/Frameworks/R.framework/Resources/include/ppc -I/usr/local/include -fPIC -g -O2 -std=gnu99 -c rma_common.c -o rma_common.o
gcc-4.0 -arch ppc -I/Library/Frameworks/R.framework/Resources/include -I/Library/Frameworks/R.framework/Resources/include/ppc -I/usr/local/include -fPIC -g -O2 -std=gnu99 -c scaling.c -o scaling.o
gcc-4.0 -arch ppc -I/Library/Frameworks/R.framework/Resources/include -I/Library/Frameworks/R.framework/Resources/include/ppc -I/usr/local/include -fPIC -g -O2 -std=gnu99 -c threestep.c -o threestep.o
gcc-4.0 -arch ppc -I/Library/Frameworks/R.framework/Resources/include -I/Library/Frameworks/R.framework/Resources/include/ppc -I/usr/local/include -fPIC -g -O2 -std=gnu99 -c threestep_PLM.c -o threestep_PLM.o
gcc-4.0 -arch ppc -I/Library/Frameworks/R.framework/Resources/include -I/Library/Frameworks/R.framework/Resources/include/ppc -I/usr/local/include -fPIC -g -O2 -std=gnu99 -c threestep_common.c -o threestep_common.o
gcc-4.0 -arch ppc -I/Library/Frameworks/R.framework/Resources/include -I/Library/Frameworks/R.framework/Resources/include/ppc -I/usr/local/include -fPIC -g -O2 -std=gnu99 -c threestep_summary.c -o threestep_summary.o
gcc-4.0 -arch ppc -I/Library/Frameworks/R.framework/Resources/include -I/Library/Frameworks/R.framework/Resources/include/ppc -I/usr/local/include -fPIC -g -O2 -std=gnu99 -c threestep_summary_methods.c -o threestep_summary_methods.o
gcc-4.0 -arch ppc -I/Library/Frameworks/R.framework/Resources/include -I/Library/Frameworks/R.framework/Resources/include/ppc -I/usr/local/include -fPIC -g -O2 -std=gnu99 -c transfns.c -o transfns.o
gcc-4.0 -arch ppc -I/Library/Frameworks/R.framework/Resources/include -I/Library/Frameworks/R.framework/Resources/include/ppc -I/usr/local/include -fPIC -g -O2 -std=gnu99 -c weightedkerneldensity.c -o weightedkerneldensity.o
gcc-4.0 -arch ppc -dynamiclib -Wl,-macosx_version_min -Wl,10.3 -undefined dynamic_lookup -single_module -multiply_defined suppress -L/usr/local/lib -o affyPLM.so LESN.o PLM_modelmatrix.o R_rlm_interfaces.o SCAB.o avg_log.o biweight.o chipbackground.o common_types.o do_PLMrlm.o do_PLMrma.o do_PLMthreestep.o idealmismatch.o lm.o lm_threestep.o log_avg.o matrix_functions.o medianPM.o median_logPM.o medianpolish.o nthLargestPM.o preprocess.o psi_fns.o qnorm.o qnorm_probeset.o read_rmaexpress.o rlm.o rlm_PLM.o rlm_anova.o rlm_se.o rlm_threestep.o rmaPLM_pseudo.o rma_PLM.o rma_background2.o rma_common.o scaling.o threestep.o threestep_PLM.o threestep_common.o threestep_summary.o threestep_summary_methods.o transfns.o weightedkerneldensity.o -L/Library/Frameworks/R.framework/Resources/lib/ppc -lRlapack -L/Library/Frameworks/R.framework/Resources/lib/ppc -lRblas -L/Library/Frameworks/R.framework/Resources/lib/ppc -lR -dylib_file libRblas.dylib:/Library/Frameworks/R.framework/Resources/lib/ppc/libRblas.dylib
** R
** inst
** save image
Loading required package: affy
Loading required package: Biobase
Loading required package: tools
Welcome to Bioconductor
Vignettes contain introductory material. To view, type
'openVignette()' or start with 'help(Biobase)'. For details
on reading vignettes, see the openVignette help page.
Loading required package: affyio
Loading required package: affydata
Loading required package: gcrma
Loading required package: matchprobes
[1] "PLMset"
[1] "cdfName"
Creating a new generic function for 'weights' in 'affyPLM'
[1] "weights"
[1] "weights<-"
[1] "weights<-"
[1] "coefs"
[1] "coefs"
[1] "coefs<-"
[1] "coefs<-"
[1] "coefs.probe"
[1] "coefs.probe"
[1] "se"
[1] "se"
[1] "se.probe"
[1] "se.probe"
[1] "se<-"
[1] "se<-"
[1] "indexProbes"
[1] "indexProbesProcessed"
[1] "indexProbesProcessed"
[1] "image"
[1] "boxplot"
[1] "show"
[1] "coefs.const"
[1] "coefs.const"
[1] "se.const"
[1] "se.const"
Creating a new generic function for 'summary' in 'affyPLM'
[1] "summary"
[1] "Mbox"
[1] "resid<-"
[1] "resid<-"
Creating a new generic function for 'resid' in 'affyPLM'
[1] "resid"
[1] "residuals<-"
[1] "residuals<-"
Creating a new generic function for 'residuals' in 'affyPLM'
[1] "residuals"
[1] "normvec"
[1] "normvec"
[1] "varcov"
[1] "varcov"
[1] "residSE"
[1] "residSE"
[1] "sampleNames"
[1] "sampleNames<-"
[1] "model.description"
[1] "model.description"
[1] "MAplot"
[1] "nuse"
[1] "nuse"
[1] "NUSE"
[1] "NUSE"
[1] "RLE"
[1] "RLE"
** help
>>> Building/Updating help pages for package 'affyPLM'
Formats: text html latex example
MAplot text html latex
PLMset-class text html latex example
PLMset2exprSet text html latex example
ReadRMAExpress text html latex
affyPLM-internal text html latex
bg.correct.LESN text html latex example
fitPLM text html latex example
normalize.exprSet text html latex example
normalize.quantiles.in.blocks text html latex example
normalize.quantiles.probeset text html latex
normalize.quantiles.target text html latex
normalize.scaling text html latex example
pseudo text html latex example
rmaPLM text html latex example
threestep text html latex example
threestepPLM text html latex example
** building package indices ...
* DONE (affyPLM)
* creating vignettes ... OK
* cleaning src
* removing junk files
* checking for LF line-endings in source files
* checking for empty or unneeded directories
* building 'affyPLM_1.9.15.tar.gz'