2.7.0Steffen Durinck | Linux (SUSE 9.2) | x86_64 | OK | WARNINGS | |
Linux (SUSE 9.2) | i686 | OK | WARNINGS | |
Solaris 2.9 | sparc | ERROR | skipped | |
Linux (SUSE 10.0) | x86_64 | OK | WARNINGS | |
Windows Server 2003 | x86_64 | ERROR | skipped | skipped |
Windows XP | i686 | ERROR | skipped | skipped |
Mac OS X (10.4.6) | i686 | [ ERROR ] | skipped | |
* checking for file 'RMAGEML/DESCRIPTION' ... OK
* preparing 'RMAGEML':
* checking DESCRIPTION meta-information ... OK
* cleaning src
* checking whether 'INDEX' is up-to-date ... NO
* use '--force' to overwrite the existing 'INDEX'
* installing the package to re-build vignettes
* Installing *source* package 'RMAGEML' ...
configure: creating ./config.status
config.status: creating src/Makevars
** libs
** arch - i386
gcc-4.0 -arch i386 -I/Library/Frameworks/R.framework/Resources/include -I/Library/Frameworks/R.framework/Resources/include/i386 -I/System/Library/Frameworks/JavaVM.framework/Versions/1.5.0/Home/include -I/System/Library/Frameworks/JavaVM.framework/Versions/1.5.0/Home/include/linux -msse3 -D__NO_MATH_INLINES -fPIC -g -O2 -std=gnu99 -march=pentium-m -mtune=prescott -c rmageml.c -o rmageml.o
gcc-4.0 -arch i386 -dynamiclib -Wl,-macosx_version_min -Wl,10.3 -undefined dynamic_lookup -single_module -multiply_defined suppress -L/usr/local/lib -o RMAGEML.so rmageml.o -L/System/Library/Frameworks/JavaVM.framework/Versions/1.5.0/Home/jre/lib/amd64 -L/System/Library/Frameworks/JavaVM.framework/Versions/1.5.0/Home/jre/lib/i386 -ljava -L/System/Library/Frameworks/JavaVM.framework/Versions/1.5.0/Home/jre/lib/amd64/server -L/System/Library/Frameworks/JavaVM.framework/Versions/1.5.0/Home/jre/lib/i386/client -ljvm -L/Library/Frameworks/R.framework/Resources/lib/i386 -lR -dylib_file libRblas.dylib:/Library/Frameworks/R.framework/Resources/lib/i386/libRblas.dylib
/usr/bin/libtool: can't locate file for: -ljava
/usr/bin/libtool: file: -ljava is not an object file (not allowed in a library)
/usr/bin/libtool: can't locate file for: -ljvm
/usr/bin/libtool: file: -ljvm is not an object file (not allowed in a library)
make: *** [RMAGEML.so] Error 1
chmod: /private/tmp/Rinst554801452/RMAGEML/libs/i386/*: No such file or directory
ERROR: compilation failed for package 'RMAGEML'
** Removing '/private/tmp/Rinst554801452/RMAGEML'
ERROR
Installation failed.
Removing '/tmp/Rinst554801452'