Back to the "Multiple platform build/check report"
| Package 117/205 | OS | Arch | BUILD | CHECK | BUILD BIN | 
| MeasurementError.cor1.5.0Beiying Ding | Linux (SUSE 9.2) | x86_64 | OK | OK | |
| Linux (SUSE 9.2) | i686 | OK | OK | ||
| Solaris 2.9 | sparc | OK | OK | ||
| Linux (SUSE 10.0) | x86_64 | OK | OK | ||
| Windows Server 2003 | x86_64 | OK | OK | OK | |
| Windows XP | i686 | OK | OK | skipped | |
| Mac OS X (10.4.6) | i686 | OK | [ OK ] | 
| Package: MeasurementError.cor | 
| Version: 1.5.0 | 
| Command: /Library/Frameworks/R.framework/Resources/bin/R CMD check MeasurementError.cor_1.5.0.tar.gz | 
| RetCode: 0 | 
| Time: 53.9 seconds | 
| Status: OK | 
| CheckDir: MeasurementError.cor.Rcheck | 
| Warnings: 0 | 
* checking for working latex ... OK * using log directory '/Users/biocbuild/1.9d/Rpacks/MeasurementError.cor.Rcheck' * using R version 2.4.0 alpha (2006-09-07 r39185) * checking for file 'MeasurementError.cor/DESCRIPTION' ... OK * this is package 'MeasurementError.cor' version '1.5.0' * checking package dependencies ... OK * checking if this is a source package ... OK * checking whether package 'MeasurementError.cor' can be installed ... OK * checking package directory ... OK * checking for portable file names ... OK * checking for sufficient/correct file permissions ... OK * checking DESCRIPTION meta-information ... OK * checking top-level files ... OK * checking index information ... OK * checking package subdirectories ... OK * checking R files for syntax errors ... OK * checking R files for non-ASCII characters ... OK * checking whether the package can be loaded ... OK * checking whether the package can be loaded with stated dependencies ... OK * checking whether the name space can be loaded with stated dependencies ... OK * checking S3 generic/method consistency ... OK * checking replacement functions ... OK * checking foreign function calls ... OK * checking R code for possible problems ... OK * checking Rd files ... OK * checking Rd cross-references ... OK * checking for missing documentation entries ... OK * checking for code/documentation mismatches ... OK * checking Rd \usage sections ... OK * creating MeasurementError.cor-Ex.R ... OK * checking examples ... OK * checking package vignettes in 'inst/doc' ... OK * creating MeasurementError.cor-manual.tex ... OK * checking MeasurementError.cor-manual.tex ... OK
MeasurementError.cor.Rcheck/00install.out:
* Installing *source* package 'MeasurementError.cor' ...
** R
** inst
** help
 >>> Building/Updating help pages for package 'MeasurementError.cor'
     Formats: text html latex example 
  cor.me.matrix                     text    html    latex   example
  cor.me.vector                     text    html    latex   example
** building package indices ...
* DONE (MeasurementError.cor)