| 1.5.0Jeff Gentry | Linux (SUSE 9.2) | x86_64 | OK | OK |  | 
| Linux (SUSE 9.2) | i686 | OK | OK |  | 
| Solaris 2.9 | sparc | [ OK ] | OK |  | 
| Linux (SUSE 10.0) | x86_64 | OK | OK |  | 
| Windows Server 2003 | x86_64 | ERROR | skipped | skipped | 
| Windows XP | i686 | ERROR | skipped | skipped | 
| Mac OS X (10.4.6) | i686 | ERROR | skipped |  | 
* checking for file 'widgetInvoke/DESCRIPTION' ... OK
* preparing 'widgetInvoke':
* checking DESCRIPTION meta-information ... OK
* installing the package to re-build vignettes
* Installing *source* package 'widgetInvoke' ...
** R
** inst
** save image
Loading required package: XML
Loading required package: RGtk
** help
 >>> Building/Updating help pages for package 'widgetInvoke'
     Formats: text html latex example 
  SimpleW-class                     text    html    latex   example
  createWF                          text    html    latex   example
  fun2wFun                          text    html    latex   example
  funArg-class                      text    html    latex   example
  testWIfun                         text    html    latex   example
  wFun-class                        text    html    latex   example
  widgetInvoke                      text    html    latex   example
  writeWIxml                        text    html    latex   example
** building package indices ...
* DONE (widgetInvoke)
* creating vignettes ... OK
* removing junk files
* checking for LF line-endings in source files
* checking for empty or unneeded directories
* building 'widgetInvoke_1.5.0.tar.gz'