* checking for file 'mmgmos/DESCRIPTION' ... OK
* preparing 'mmgmos':
* checking DESCRIPTION meta-information ... OK
* cleaning src
* installing the package to re-build vignettes
* Installing *source* package 'mmgmos' ...
** libs
gcc -I/loc/biocbuild/1.9d/R/include -I/loc/biocbuild/1.9d/R/include -I/usr/local/include -fPIC -g -O2 -std=gnu99 -c donlp2.c -o donlp2.o
gcc -I/loc/biocbuild/1.9d/R/include -I/loc/biocbuild/1.9d/R/include -I/usr/local/include -fPIC -g -O2 -std=gnu99 -c multimgmos.c -o multimgmos.o
gcc -I/loc/biocbuild/1.9d/R/include -I/loc/biocbuild/1.9d/R/include -I/usr/local/include -fPIC -g -O2 -std=gnu99 -c newx.c -o newx.o
gcc -I/loc/biocbuild/1.9d/R/include -I/loc/biocbuild/1.9d/R/include -I/usr/local/include -fPIC -g -O2 -std=gnu99 -c user_eval.c -o user_eval.o
gcc -G -L/usr/local/lib -o mmgmos.so donlp2.o multimgmos.o newx.o user_eval.o
** R
** data
** inst
** help
>>> Building/Updating help pages for package 'mmgmos'
Formats: text html latex example
exprReslt-class text html latex example
hgu95aphis text html latex
justmgMOS text html latex example
justmmgMOS text html latex example
mgmos text html latex example
mmgmos text html latex example
** building package indices ...
* DONE (mmgmos)
* creating vignettes ... OK
* cleaning src
* removing junk files
* checking for LF line-endings in source files
* checking for empty or unneeded directories
* building 'mmgmos_1.5.0.tar.gz'