1.3.1Holger Schwender | Linux (SUSE 9.2)  | x86_64 |  OK  |  OK  |  | 
| Linux (SUSE 9.2)  | i686 |  OK  |  OK  |  | 
| Solaris 2.9  | sparc | [ OK ] |  OK  |  | 
| Linux (SUSE 10.0)  | x86_64 |  OK  |  OK  |  | 
| Windows Server 2003  | x86_64 |  OK  |  OK  |  OK  | 
| Windows XP  | i686 |  OK  |  OK  | skipped | 
| Mac OS X (10.4.6)  | i686 |  OK  |  OK  |  | 
* checking for file 'logicFS/DESCRIPTION' ... OK
* preparing 'logicFS':
* checking DESCRIPTION meta-information ... OK
* checking whether 'INDEX' is up-to-date ... NO
* use '--force' to overwrite the existing 'INDEX'
* installing the package to re-build vignettes
* Installing *source* package 'logicFS' ...
** R
** data
** inst
** help
 >>> Building/Updating help pages for package 'logicFS'
     Formats: text html latex example 
  data.logicfs                      text    html    latex
  logic.bagging                     text    html    latex   example
  logic.fs                          text    html    latex   example
  logic.vim                         text    html    latex
  logicFS-internal                  text    html    latex
  make.snp.dummy                    text    html    latex
  minDNF                            text    html    latex
  plot.logicFS                      text    html    latex
  predict.logicBagg                 text    html    latex
  print.logicFS                     text    html    latex
** building package indices ...
* DONE (logicFS)
* creating vignettes ... OK
* removing junk files
* checking for LF line-endings in source files
* checking for empty or unneeded directories
* building 'logicFS_1.3.1.tar.gz'