4.3.5Jelle Goeman | Linux (SUSE 9.2) | x86_64 | ERROR | skipped | |
Linux (SUSE 9.2) | i686 | ERROR | skipped | |
Solaris 2.9 | sparc | [ ERROR ] | skipped | |
Linux (SUSE 10.0) | x86_64 | ERROR | skipped | |
Windows Server 2003 | x86_64 | ERROR | skipped | skipped |
Windows XP | i686 | ERROR | skipped | skipped |
Mac OS X (10.4.6) | i686 | OK | OK | |
* checking for file 'globaltest/DESCRIPTION' ... OK
* preparing 'globaltest':
* checking DESCRIPTION meta-information ... OK
* installing the package to re-build vignettes
* Installing *source* package 'globaltest' ...
** R
** data
** inst
** save image
Loading required package: multtest
Loading required package: Biobase
Loading required package: tools
Welcome to Bioconductor
Vignettes contain introductory material. To view, type
'openVignette()' or start with 'help(Biobase)'. For details
on reading vignettes, see the openVignette help page.
Loading required package: survival
Loading required package: splines
In method for function "sort": expanding the signature
to include omitted arguments in definition: partial =
"missing", na.last = "missing", method = "missing", index.return
= "missing"
Error in .MakeSignature(new("signature"), def, signature) :
the names in signature for method (x, , , , , ) do not match function's arguments (x, partial, na.last, decreasing, method, index.return)
Error: unable to load R code in package 'globaltest'
Execution halted
ERROR: execution of package source for 'globaltest' failed
** Removing '/tmp/Rinst2879078216/globaltest'
ERROR
Installation failed.
Removing '/tmp/Rinst2879078216'