| 1.7.0Yee Hwa (Jean) Yang | Linux (SUSE 9.2) | x86_64 | OK | OK |  | 
| Linux (SUSE 9.2) | i686 | OK | OK |  | 
| Solaris 2.9 | sparc | [ OK ] | OK |  | 
| Linux (SUSE 10.0) | x86_64 | OK | OK |  | 
| Windows Server 2003 | x86_64 | OK | OK | OK | 
| Windows XP | i686 | ERROR | skipped | skipped | 
| Mac OS X (10.4.6) | i686 | OK | OK |  | 
* checking for file 'convert/DESCRIPTION' ... OK
* preparing 'convert':
* checking DESCRIPTION meta-information ... OK
* installing the package to re-build vignettes
* Installing *source* package 'convert' ...
** R
** inst
** help
 >>> Building/Updating help pages for package 'convert'
     Formats: text html latex example 
  coerce                            text    html    latex   example
** building package indices ...
* DONE (convert)
* creating vignettes ... OK
* removing junk files
* checking for LF line-endings in source files
* checking for empty or unneeded directories
* building 'convert_1.7.0.tar.gz'