Back to the "Multiple platform build/check report"
| Package 78/172 | OS | Arch | BUILD | CHECK | BUILD BIN |
hypergraph1.4.0Seth Falcon | Linux (SUSE 9.2) | x86_64 | OK | OK | |
| Linux (SUSE 9.2) | i686 | OK | OK | ||
| Solaris 2.9 | sparc | OK | OK | ||
| Linux (SUSE 10.0) | x86_64 | OK | OK | ||
| Windows Server 2003 | x86_64 | OK | [ OK ] | OK |
| Package: hypergraph |
| Version: 1.4.0 |
| Command: D:\biocbld\1.8d\R\bin\R.exe CMD check hypergraph_1.4.0.tar.gz |
| RetCode: 0 |
| Time: 86.8 seconds |
| Status: OK |
| CheckDir: hypergraph.Rcheck |
| Warnings: 0 |
* checking for working latex ... OK * using log directory 'D:/biocbld/1.8d/Rpacks/hypergraph.Rcheck' * using Version 2.3.1 (2006-06-01) * checking for file 'hypergraph/DESCRIPTION' ... OK * this is package 'hypergraph' version '1.4.0' * checking package dependencies ... OK * checking if this is a source package ... OK * checking whether package 'hypergraph' can be installed ... OK * checking package directory ... OK * checking for portable file names ... OK * checking DESCRIPTION meta-information ... OK * checking top-level files ... OK * checking index information ... OK * checking package subdirectories ... OK * checking R files for syntax errors ... OK * checking R files for library.dynam ... OK * checking S3 generic/method consistency ... OK * checking replacement functions ... OK * checking foreign function calls ... OK * checking Rd files ... OK * checking for missing documentation entries ... OK * checking for code/documentation mismatches ... OK * checking Rd \usage sections ... OK * creating hypergraph-Ex.R ... OK * checking examples ... OK * creating hypergraph-manual.tex ... OK * checking hypergraph-manual.tex ... OK
hypergraph.Rcheck/00install.out:
installing R.css in D:/biocbld/1.8d/Rpacks/hypergraph.Rcheck
---------- Making package hypergraph ------------
adding build stamp to DESCRIPTION
installing NAMESPACE file and metadata
installing R files
save image
Loading required package: graph
Loading required package: Ruuid
installing inst files
installing man source files
installing indices
installing help
>>> Building/Updating help pages for package 'hypergraph'
Formats: text html latex example chm
DirectedHyperedge-class text html latex example chm
DirectedHyperedge text html latex chm
Hyperedge-class text html latex example chm
Hyperedge text html latex chm
Hypergraph-class text html latex example chm
Hypergraph text html latex chm
l2hel text html latex example chm
Microsoft HTML Help Compiler 4.74.8702
Compiling d:\biocbld\1.8d\Rpacks\hypergraph.Rcheck\00_pkg_src\hypergraph\chm\hypergraph.chm
Compile time: 0 minutes, 0 seconds
8 Topics
70 Local links
0 Internet links
1 Graphic
Created d:\biocbld\1.8d\Rpacks\hypergraph.Rcheck\00_pkg_src\hypergraph\chm\hypergraph.chm, 21,259 bytes
Compression decreased file by 10,870 bytes.
adding MD5 sums
* DONE (hypergraph)