Back to the "Multiple platform build/check report"
| Package 70/172 | OS | Arch | BUILD | CHECK | BUILD BIN |
goTools1.4.0Agnes Paquet | Linux (SUSE 9.2) | x86_64 | OK | OK | |
| Linux (SUSE 9.2) | i686 | OK | OK | ||
| Solaris 2.9 | sparc | OK | OK | ||
| Linux (SUSE 10.0) | x86_64 | OK | OK | ||
| Windows Server 2003 | x86_64 | OK | [ OK ] | OK |
| Package: goTools |
| Version: 1.4.0 |
| Command: D:\biocbld\1.8d\R\bin\R.exe CMD check goTools_1.4.0.tar.gz |
| RetCode: 0 |
| Time: 193.3 seconds |
| Status: OK |
| CheckDir: goTools.Rcheck |
| Warnings: 0 |
* checking for working latex ... OK * using log directory 'D:/biocbld/1.8d/Rpacks/goTools.Rcheck' * using Version 2.3.1 (2006-06-01) * checking for file 'goTools/DESCRIPTION' ... OK * this is package 'goTools' version '1.4.0' * checking package dependencies ... OK * checking if this is a source package ... OK * checking whether package 'goTools' can be installed ... OK * checking package directory ... OK * checking for portable file names ... OK * checking DESCRIPTION meta-information ... OK * checking top-level files ... OK * checking index information ... OK * checking package subdirectories ... OK * checking R files for syntax errors ... OK * checking R files for library.dynam ... OK * checking S3 generic/method consistency ... OK * checking replacement functions ... OK * checking foreign function calls ... OK * checking Rd files ... OK * checking for missing documentation entries ... OK * checking for code/documentation mismatches ... OK * checking Rd \usage sections ... OK * creating goTools-Ex.R ... OK * checking examples ... OK * checking package vignettes in 'inst/doc' ... OK * creating goTools-manual.tex ... OK * checking goTools-manual.tex ... OK
goTools.Rcheck/00install.out:
installing R.css in D:/biocbld/1.8d/Rpacks/goTools.Rcheck
---------- Making package goTools ------------
adding build stamp to DESCRIPTION
installing R files
save image
Loading required package: Biobase
Loading required package: tools
Welcome to Bioconductor
Vignettes contain introductory material. To view, type
'openVignette()' or start with 'help(Biobase)'. For details
on reading vignettes, see the openVignette help page.
Loading required package: annotate
Loading required package: GO
installing inst files
installing data files
installing man source files
installing indices
not zipping data
installing help
>>> Building/Updating help pages for package 'goTools'
Formats: text html latex example chm
EndNodeList text html latex example chm
goTools-internal text html latex chm
ontoCompare text html latex example chm
probeID text html latex chm
Microsoft HTML Help Compiler 4.74.8702
Compiling d:\biocbld\1.8d\Rpacks\goTools.Rcheck\00_pkg_src\goTools\chm\goTools.chm
Compile time: 0 minutes, 0 seconds
5 Topics
26 Local links
0 Internet links
1 Graphic
Created d:\biocbld\1.8d\Rpacks\goTools.Rcheck\00_pkg_src\goTools\chm\goTools.chm, 19,717 bytes
Compression increased file by 1,323 bytes.
adding MD5 sums
* DONE (goTools)