Back to the "Multiple platform build/check report"
| Package 50/172 | OS | Arch | BUILD | CHECK | BUILD BIN |
factDesign1.6.0Denise Scholtens | Linux (SUSE 9.2) | x86_64 | OK | OK | |
| Linux (SUSE 9.2) | i686 | OK | OK | ||
| Solaris 2.9 | sparc | OK | OK | ||
| Linux (SUSE 10.0) | x86_64 | OK | OK | ||
| Windows Server 2003 | x86_64 | OK | [ OK ] | OK |
| Package: factDesign |
| Version: 1.6.0 |
| Command: D:\biocbld\1.8d\R\bin\R.exe CMD check factDesign_1.6.0.tar.gz |
| RetCode: 0 |
| Time: 77.5 seconds |
| Status: OK |
| CheckDir: factDesign.Rcheck |
| Warnings: 0 |
* checking for working latex ... OK * using log directory 'D:/biocbld/1.8d/Rpacks/factDesign.Rcheck' * using Version 2.3.1 (2006-06-01) * checking for file 'factDesign/DESCRIPTION' ... OK * this is package 'factDesign' version '1.6.0' * checking package dependencies ... OK * checking if this is a source package ... OK * checking whether package 'factDesign' can be installed ... OK * checking package directory ... OK * checking for portable file names ... OK * checking DESCRIPTION meta-information ... OK * checking top-level files ... OK * checking index information ... OK * checking package subdirectories ... OK * checking R files for syntax errors ... OK * checking R files for library.dynam ... OK * checking S3 generic/method consistency ... OK * checking replacement functions ... OK * checking foreign function calls ... OK * checking Rd files ... OK * checking for missing documentation entries ... OK * checking for code/documentation mismatches ... OK * checking Rd \usage sections ... OK * creating factDesign-Ex.R ... OK * checking examples ... OK * checking package vignettes in 'inst/doc' ... OK * creating factDesign-manual.tex ... OK * checking factDesign-manual.tex ... OK
factDesign.Rcheck/00install.out:
installing R.css in D:/biocbld/1.8d/Rpacks/factDesign.Rcheck
---------- Making package factDesign ------------
adding build stamp to DESCRIPTION
installing R files
installing inst files
installing data files
installing man source files
installing indices
not zipping data
installing help
>>> Building/Updating help pages for package 'factDesign'
Formats: text html latex example chm
contrasts text html latex example chm
estrogen text html latex example chm
findFC text html latex example chm
kRepsOverA text html latex example chm
outliers text html latex example chm
Microsoft HTML Help Compiler 4.74.8702
Compiling d:\biocbld\1.8d\Rpacks\factDesign.Rcheck\00_pkg_src\factDesign\chm\factDesign.chm
Compile time: 0 minutes, 0 seconds
6 Topics
14 Local links
0 Internet links
1 Graphic
Created d:\biocbld\1.8d\Rpacks\factDesign.Rcheck\00_pkg_src\factDesign\chm\factDesign.chm, 24,283 bytes
Compression increased file by 356 bytes.
adding MD5 sums
* DONE (factDesign)