Back to the "Multiple platform build/check report"
Package 37/172 | OS | Arch | BUILD | CHECK | BUILD BIN |
copa1.0.1James W. MacDonald | Linux (SUSE 9.2) | x86_64 | OK | OK | |
Linux (SUSE 9.2) | i686 | OK | OK | ||
Solaris 2.9 | sparc | OK | OK | ||
Linux (SUSE 10.0) | x86_64 | OK | OK | ||
Windows Server 2003 | x86_64 | OK | [ OK ] | OK |
Package: copa |
Version: 1.0.1 |
Command: D:\biocbld\1.8d\R\bin\R.exe CMD check copa_1.0.1.tar.gz |
RetCode: 0 |
Time: 218.5 seconds |
Status: OK |
CheckDir: copa.Rcheck |
Warnings: 0 |
* checking for working latex ... OK * using log directory 'D:/biocbld/1.8d/Rpacks/copa.Rcheck' * using Version 2.3.1 (2006-06-01) * checking for file 'copa/DESCRIPTION' ... OK * this is package 'copa' version '1.0.1' * checking package dependencies ... OK * checking if this is a source package ... OK * checking whether package 'copa' can be installed ... OK * checking package directory ... OK * checking for portable file names ... OK * checking DESCRIPTION meta-information ... OK * checking top-level files ... OK * checking index information ... OK * checking package subdirectories ... OK * checking R files for syntax errors ... OK * checking R files for library.dynam ... OK * checking S3 generic/method consistency ... OK * checking replacement functions ... OK * checking foreign function calls ... OK * checking Rd files ... OK * checking for missing documentation entries ... OK * checking for code/documentation mismatches ... OK * checking Rd \usage sections ... OK * checking for CRLF line endings in C/C++/Fortran sources/headers ... OK * creating copa-Ex.R ... OK * checking examples ... OK * checking package vignettes in 'inst/doc' ... OK * creating copa-manual.tex ... OK * checking copa-manual.tex ... OK
copa.Rcheck/00install.out:
installing R.css in D:/biocbld/1.8d/Rpacks/copa.Rcheck ---------- Making package copa ------------ adding build stamp to DESCRIPTION installing NAMESPACE file and metadata making DLL ... making copa.d from copa.c gcc -Id:/biocbld/1.8d/R/include -Wall -O2 -c copa.c -o copa.o windres --include-dir d:/biocbld/1.8d/R/include -i copa_res.rc -o copa_res.o gcc -shared -s -o copa.dll copa.def copa.o copa_res.o -Ld:/biocbld/1.8d/R/bin -lR ... DLL made installing DLL installing R files installing inst files installing man source files installing indices installing help >>> Building/Updating help pages for package 'copa' Formats: text html latex example chm copa text html latex example chm copa.package text html latex chm copaFilter text html latex chm copaPerm text html latex chm copaTable text html latex example chm getans text html latex chm pSum text html latex chm perm.mat text html latex chm plotCopa text html latex example chm scatterPlotCopa text html latex example chm Microsoft HTML Help Compiler 4.74.8702 Compiling d:\biocbld\1.8d\Rpacks\copa.Rcheck\00_pkg_src\copa\chm\copa.chm Compile time: 0 minutes, 0 seconds 11 Topics 16 Local links 0 Internet links 1 Graphic Created d:\biocbld\1.8d\Rpacks\copa.Rcheck\00_pkg_src\copa\chm\copa.chm, 28,009 bytes Compression decreased file by 4,913 bytes. adding MD5 sums * DONE (copa)