Back to the "Multiple platform build/check report"
Package 35/172 | OS | Arch | BUILD | CHECK | BUILD BIN |
codelink1.0.0Diego Díez | Linux (SUSE 9.2) | x86_64 | OK | OK | |
Linux (SUSE 9.2) | i686 | OK | OK | ||
Solaris 2.9 | sparc | OK | OK | ||
Linux (SUSE 10.0) | x86_64 | OK | OK | ||
Windows Server 2003 | x86_64 | OK | [ OK ] | OK |
Package: codelink |
Version: 1.0.0 |
Command: D:\biocbld\1.8d\R\bin\R.exe CMD check codelink_1.0.0.tar.gz |
RetCode: 0 |
Time: 53.1 seconds |
Status: OK |
CheckDir: codelink.Rcheck |
Warnings: 0 |
* checking for working latex ... OK * using log directory 'D:/biocbld/1.8d/Rpacks/codelink.Rcheck' * using Version 2.3.1 (2006-06-01) * checking for file 'codelink/DESCRIPTION' ... OK * this is package 'codelink' version '1.0.0' * checking package dependencies ... OK * checking if this is a source package ... OK * checking whether package 'codelink' can be installed ... OK * checking package directory ... OK * checking for portable file names ... OK * checking DESCRIPTION meta-information ... OK * checking top-level files ... OK * checking index information ... OK * checking package subdirectories ... OK * checking R files for syntax errors ... OK * checking R files for library.dynam ... OK * checking S3 generic/method consistency ... OK * checking replacement functions ... OK * checking foreign function calls ... OK * checking Rd files ... OK * checking for missing documentation entries ... OK * checking for code/documentation mismatches ... OK * checking Rd \usage sections ... OK * creating codelink-Ex.R ... OK * checking examples ... OK * checking package vignettes in 'inst/doc' ... OK * creating codelink-manual.tex ... OK * checking codelink-manual.tex ... OK
codelink.Rcheck/00install.out:
installing R.css in D:/biocbld/1.8d/Rpacks/codelink.Rcheck ---------- Making package codelink ------------ adding build stamp to DESCRIPTION installing NAMESPACE file and metadata installing R files installing inst files installing data files installing man source files installing indices not zipping data installing help >>> Building/Updating help pages for package 'codelink' Formats: text html latex example chm Codelink-class text html latex example chm SNR text html latex example chm arraySize text html latex example chm as.matrix.Codelink text html latex example chm bkgdCorrect text html latex example chm codelink.example text html latex chm createWeights text html latex example chm cutCV text html latex example chm decDetect text html latex example chm dim.Codelink text html latex example chm fc2Cond text html latex example chm imageCodelink text html latex example chm logCodelink text html latex example chm mergeArray text html latex example chm na2false text html latex example chm normalize text html latex example chm normalize.loess text html latex example chm plotCV text html latex example chm plotCorrelation text html latex example chm plotDensities text html latex example chm plotMA text html latex example chm printHead text html latex example chm readCodelink text html latex example chm readHeader text html latex example chm reportCodelink text html latex example chm selCV text html latex example chm writeCodelink text html latex example chm Microsoft HTML Help Compiler 4.74.8702 Compiling d:\biocbld\1.8d\Rpacks\codelink.Rcheck\00_pkg_src\codelink\chm\codelink.chm Compile time: 0 minutes, 0 seconds 28 Topics 56 Local links 0 Internet links 1 Graphic Created d:\biocbld\1.8d\Rpacks\codelink.Rcheck\00_pkg_src\codelink\chm\codelink.chm, 32,159 bytes Compression decreased file by 31,483 bytes. preparing package codelink for lazy loading Welcome to Bioconductor Vignettes contain introductory material. To view, type 'openVignette()' or start with 'help(Biobase)'. For details on reading vignettes, see the openVignette help page. adding MD5 sums * DONE (codelink)