* checking for file 'cghMCR/DESCRIPTION' ... OK
* preparing 'cghMCR':
* checking DESCRIPTION meta-information ... OK
* installing the package to re-build vignettes
installing R.css in D:/biocbld/1.8d/tmpdir/Rinst434854797
---------- Making package cghMCR ------------
adding build stamp to DESCRIPTION
installing NAMESPACE file and metadata
installing R files
save image
Loading required package: DNAcopy
Loading required package: marray
Loading required package: limma
Creating a new generic function for 'print' in 'cghMCR'
installing inst files
installing data files
installing man source files
installing indices
not zipping data
installing help
>>> Building/Updating help pages for package 'cghMCR'
Formats: text html latex example chm
cghMCR-class text html latex example chm
cghMCR text html latex example chm
mergeMCRProbes text html latex example chm
plot.DNAcopy text html latex example chm
Microsoft HTML Help Compiler 4.74.8702
Compiling d:\biocbld\1.8d\Rpacks\cghMCR\chm\cghMCR.chm
Compile time: 0 minutes, 0 seconds
5 Topics
27 Local links
0 Internet links
1 Graphic
Created d:\biocbld\1.8d\Rpacks\cghMCR\chm\cghMCR.chm, 20,991 bytes
Compression increased file by 1,044 bytes.
adding MD5 sums
* DONE (cghMCR)
* creating vignettes ... OK
* removing junk files
* checking for LF line-endings in source files
* checking for empty or unneeded directories
* building 'cghMCR_1.2.0.tar.gz'