Back to the "Multiple platform build/check report"
| Package 143/172 | OS | Arch | BUILD | CHECK | BUILD BIN |
ROC1.6.0Vince Carey | Linux (SUSE 9.2) | x86_64 | OK | OK | |
| Linux (SUSE 9.2) | i686 | OK | OK | ||
| Solaris 2.9 | sparc | OK | OK | ||
| Linux (SUSE 10.0) | x86_64 | OK | OK | ||
| Windows Server 2003 | x86_64 | OK | [ OK ] | OK |
| Package: ROC |
| Version: 1.6.0 |
| Command: D:\biocbld\1.8d\R\bin\R.exe CMD check ROC_1.6.0.tar.gz |
| RetCode: 0 |
| Time: 79.5 seconds |
| Status: OK |
| CheckDir: ROC.Rcheck |
| Warnings: 0 |
* checking for working latex ... OK * using log directory 'D:/biocbld/1.8d/Rpacks/ROC.Rcheck' * using Version 2.3.1 (2006-06-01) * checking for file 'ROC/DESCRIPTION' ... OK * this is package 'ROC' version '1.6.0' * checking package dependencies ... OK * checking if this is a source package ... OK * checking whether package 'ROC' can be installed ... OK * checking package directory ... OK * checking for portable file names ... OK * checking DESCRIPTION meta-information ... OK * checking top-level files ... OK * checking index information ... OK * checking package subdirectories ... OK * checking R files for syntax errors ... OK * checking R files for library.dynam ... OK * checking S3 generic/method consistency ... OK * checking replacement functions ... OK * checking foreign function calls ... OK * checking Rd files ... OK * checking for missing documentation entries ... OK * checking for code/documentation mismatches ... OK * checking Rd \usage sections ... OK * creating ROC-Ex.R ... OK * checking examples ... OK * checking package vignettes in 'inst/doc' ... OK * creating ROC-manual.tex ... OK * checking ROC-manual.tex ... OK
ROC.Rcheck/00install.out:
installing R.css in D:/biocbld/1.8d/Rpacks/ROC.Rcheck
---------- Making package ROC ------------
adding build stamp to DESCRIPTION
installing NAMESPACE file and metadata
installing R files
save image
installing inst files
installing man source files
installing indices
installing help
>>> Building/Updating help pages for package 'ROC'
Formats: text html latex example chm
AUC text html latex example chm
plot-methods text html latex example chm
rocc-class text html latex example chm
rocdemo.sca text html latex example chm
trapezint text html latex example chm
Microsoft HTML Help Compiler 4.74.8702
Compiling d:\biocbld\1.8d\Rpacks\ROC.Rcheck\00_pkg_src\ROC\chm\ROC.chm
Compile time: 0 minutes, 0 seconds
6 Topics
16 Local links
0 Internet links
1 Graphic
Created d:\biocbld\1.8d\Rpacks\ROC.Rcheck\00_pkg_src\ROC\chm\ROC.chm, 20,661 bytes
Compression increased file by 2,486 bytes.
adding MD5 sums
* DONE (ROC)