Back to the "Multiple platform build/check report"
| Package 79/172 | OS | Arch | BUILD | CHECK | BUILD BIN | 
| Icens1.4.0Biocore Team | Linux (SUSE 9.2) | x86_64 | OK | OK | |
| Linux (SUSE 9.2) | i686 | OK | OK | ||
| Solaris 2.9 | sparc | OK | OK | ||
| Linux (SUSE 10.0) | x86_64 | OK | OK | ||
| Windows Server 2003 | x86_64 | OK | [ OK ] | OK | 
| Package: Icens | 
| Version: 1.4.0 | 
| Command: D:\biocbld\1.8d\R\bin\R.exe CMD check Icens_1.4.0.tar.gz | 
| RetCode: 0 | 
| Time: 127.3 seconds | 
| Status: OK | 
| CheckDir: Icens.Rcheck | 
| Warnings: 0 | 
* checking for working latex ... OK * using log directory 'D:/biocbld/1.8d/Rpacks/Icens.Rcheck' * using Version 2.3.1 (2006-06-01) * checking for file 'Icens/DESCRIPTION' ... OK * this is package 'Icens' version '1.4.0' * checking package dependencies ... OK * checking if this is a source package ... OK * checking whether package 'Icens' can be installed ... OK * checking package directory ... OK * checking for portable file names ... OK * checking DESCRIPTION meta-information ... OK * checking top-level files ... OK * checking index information ... OK * checking package subdirectories ... OK * checking R files for syntax errors ... OK * checking R files for library.dynam ... OK * checking S3 generic/method consistency ... OK * checking replacement functions ... OK * checking foreign function calls ... OK * checking Rd files ... OK * checking for missing documentation entries ... OK * checking for code/documentation mismatches ... OK * checking Rd \usage sections ... OK * creating Icens-Ex.R ... OK * checking examples ... OK * checking tests ... make[1]: Entering directory `/cygdrive/d/biocbld/1.8d/Rpacks/Icens.Rcheck/tests' Running 'testbv.R' Comparing 'testbv.Rout' to 'testbv.Rout.save' ...117c117 < [6] 1.461001e+00 1.207129e+00 1.000000e+00 4.748624e-01 4.381765e-17 --- > [6] 1.461001e+00 1.207129e+00 1.000000e+00 4.748624e-01 -2.480201e-16 OK make[1]: Leaving directory `/cygdrive/d/biocbld/1.8d/Rpacks/Icens.Rcheck/tests' OK * creating Icens-manual.tex ... OK * checking Icens-manual.tex ... OK
Icens.Rcheck/00install.out:
installing R.css in D:/biocbld/1.8d/Rpacks/Icens.Rcheck
---------- Making package Icens ------------
  adding build stamp to DESCRIPTION
  installing NAMESPACE file and metadata
  installing R files
  installing data files
  installing man source files
  installing indices
  not zipping data
  installing help
 >>> Building/Updating help pages for package 'Icens'
     Formats: text html latex example chm 
  BVcliques                         text    html    latex   example chm
  BVclmat                           text    html    latex   example chm
  BVsupport                         text    html    latex   example chm
  Bisect                            text    html    latex           chm
  EM                                text    html    latex   example chm
  EMICM                             text    html    latex   example chm
  ISDM                              text    html    latex   example chm
  Icens-internal                    text    html    latex           chm
  MLEintvl                          text    html    latex   example chm
  Maclist                           text    html    latex   example chm
  Macmat                            text    html    latex   example chm
  PGM                               text    html    latex   example chm
  PMGA                              text    html    latex           chm
  Plotboxes                         text    html    latex   example chm
  VEM                               text    html    latex   example chm
  cmv                               text    html    latex   example chm
  cosmesis                          text    html    latex   example chm
  hiv                               text    html    latex   example chm
  icsurv                            text    html    latex           chm
  plot.icsurv                       text    html    latex   example chm
  pruitt                            text    html    latex   example chm
Microsoft HTML Help Compiler 4.74.8702
Compiling d:\biocbld\1.8d\Rpacks\Icens.Rcheck\00_pkg_src\Icens\chm\Icens.chm
Compile time: 0 minutes, 0 seconds
22	Topics
94	Local links
0	Internet links
1	Graphic
Created d:\biocbld\1.8d\Rpacks\Icens.Rcheck\00_pkg_src\Icens\chm\Icens.chm, 39,763 bytes
Compression decreased file by 26,656 bytes.
  preparing package Icens for lazy loading
  adding MD5 sums
* DONE (Icens)