| 2.2.0R. Meister | Linux (SUSE 9.2) | x86_64 | OK | OK |  | 
| Linux (SUSE 9.2) | i686 | OK | OK |  | 
| Solaris 2.9 | sparc | OK | OK |  | 
| Linux (SUSE 10.0) | x86_64 | OK | OK |  | 
| Windows Server 2003 | x86_64 | OK | OK | [ OK ] | 
Using auto-selected zip options 'GlobalAncova-ZIPDATA=zip'
---------- Making package GlobalAncova ------------
  adding build stamp to DESCRIPTION
  installing NAMESPACE file and metadata
  installing R files
  installing inst files
  installing data files
  installing man source files
  installing indices
  zipping data
  installing help
 >>> Building/Updating help pages for package 'GlobalAncova'
     Formats: text html latex example chm 
  GlobalAncova-methods              text    html    latex           chm
  GlobalAncova                      text    html    latex   example chm
  GlobalAncova.closed-methods       text    html    latex           chm
  GlobalAncova.closed               text    html    latex           chm
  Plot.genes-methods                text    html    latex           chm
  Plot.genes                        text    html    latex   example chm
  Plot.subjects-methods             text    html    latex           chm
  Plot.subjects                     text    html    latex   example chm
  pathways                          text    html    latex   example chm
  phenodata                         text    html    latex   example chm
  vantVeer                          text    html    latex   example chm
Microsoft HTML Help Compiler 4.74.8702
Compiling d:\biocbld\1.8d\Rpacks\R.INSTALL\GlobalAncova\chm\GlobalAncova.chm
Compile time: 0 minutes, 0 seconds
12	Topics
46	Local links
0	Internet links
1	Graphic
Created d:\biocbld\1.8d\Rpacks\R.INSTALL\GlobalAncova\chm\GlobalAncova.chm, 31,667 bytes
Compression decreased file by 30,358 bytes.
  preparing package GlobalAncova for lazy loading
  adding MD5 sums
packaged installation of package 'GlobalAncova' as GlobalAncova_2.2.0.zip
* DONE (GlobalAncova)