Back to the "Multiple platform build/check report"
| Package 46/172 | OS | Arch | BUILD | CHECK | BUILD BIN |
ecolitk1.4.0Laurent | Linux (SUSE 9.2) | x86_64 | OK | [ OK ] | |
| Linux (SUSE 9.2) | i686 | OK | OK | ||
| Solaris 2.9 | sparc | OK | OK | ||
| Linux (SUSE 10.0) | x86_64 | OK | OK | ||
| Windows Server 2003 | x86_64 | OK | OK | OK |
| Package: ecolitk |
| Version: 1.4.0 |
| Command: /loc/biocbuild/1.8d/R/bin/R CMD check ecolitk_1.4.0.tar.gz |
| RetCode: 0 |
| Time: 144.9 seconds |
| Status: OK |
| CheckDir: ecolitk.Rcheck |
| Warnings: 0 |
* checking for working latex ... OK * using log directory '/loc/biocbuild/1.8d/Rpacks/ecolitk.Rcheck' * using Version 2.3.1 (2006-06-01) * checking for file 'ecolitk/DESCRIPTION' ... OK * this is package 'ecolitk' version '1.4.0' * checking package dependencies ... OK * checking if this is a source package ... OK * checking whether package 'ecolitk' can be installed ... OK * checking package directory ... OK * checking for portable file names ... OK * checking for sufficient/correct file permissions ... OK * checking DESCRIPTION meta-information ... OK * checking top-level files ... OK * checking index information ... OK * checking package subdirectories ... OK * checking R files for syntax errors ... OK * checking R files for library.dynam ... OK * checking S3 generic/method consistency ... OK * checking replacement functions ... OK * checking foreign function calls ... OK * checking Rd files ... OK * checking for missing documentation entries ... OK * checking for code/documentation mismatches ... OK * checking Rd \usage sections ... OK * creating ecolitk-Ex.R ... OK * checking examples ... OK * checking package vignettes in 'inst/doc' ... OK * creating ecolitk-manual.tex ... OK * checking ecolitk-manual.tex ... OK
ecolitk.Rcheck/00install.out:
* Installing *source* package 'ecolitk' ...
** R
** data
** inst
** help
>>> Building/Updating help pages for package 'ecolitk'
Formats: text html latex example
ecoli.data text html latex example
ecoligenome.operon text html latex example
ecoligenomeBNUM text html latex
ecoligenomeBNUM2MULTIFUN text html latex
gccontent text html latex
linkedmultiget text html latex example
multiFun text html latex example
pointsCircle text html latex example
polar2xy text html latex example
polygonChrom text html latex example
wstringapply text html latex example
** building package indices ...
* DONE (ecolitk)