| 1.4.0Biocore Team | Linux (SUSE 9.2) | x86_64 | OK | OK |  | 
| Linux (SUSE 9.2) | i686 | OK | OK |  | 
| Solaris 2.9 | sparc | OK | OK |  | 
| Linux (SUSE 10.0) | x86_64 | [ OK ] | OK |  | 
| Windows Server 2003 | x86_64 | OK | OK | OK | 
* checking for file 'matchprobes/DESCRIPTION' ... OK
* preparing 'matchprobes':
* checking DESCRIPTION meta-information ... OK
* cleaning src
* installing the package to re-build vignettes
* Installing *source* package 'matchprobes' ...
** libs
gcc -I/home/biocbuild/1.8d/R/include -I/home/biocbuild/1.8d/R/include  -I/usr/local/include   -fpic  -g -O2 -std=gnu99 -Wall -c main.c -o main.o
gcc -I/home/biocbuild/1.8d/R/include -I/home/biocbuild/1.8d/R/include  -I/usr/local/include   -fpic  -g -O2 -std=gnu99 -Wall -c strutils.c -o strutils.o
strutils.c: In function 'MP_longestConsecutive':
strutils.c:198: warning: format '%d' expects type 'int', but argument 3 has type 'size_t'
gcc -shared -L/usr/local/lib64 -o matchprobes.so main.o strutils.o   
** R
** data
** inst
** save image
Loading required package: Biobase
Loading required package: tools
Welcome to Bioconductor
    Vignettes contain introductory material. To view, type
    'openVignette()' or start with 'help(Biobase)'. For details
    on reading vignettes, see the openVignette help page.
Loading required package: affy
Loading required package: affyio
** help
 >>> Building/Updating help pages for package 'matchprobes'
     Formats: text html latex example 
  basecontent                       text    html    latex   example
  combineAffyBatch                  text    html    latex   example
  complementSeq                     text    html    latex   example
  getProbeDataAffy                  text    html    latex   example
  getProbeData_1lq                  text    html    latex   example
  longestConsecutive                text    html    latex   example
  makeProbePackage                  text    html    latex   example
  matchprobes                       text    html    latex   example
  print.probetable                  text    html    latex   example
  reverseSeq                        text    html    latex   example
** building package indices ...
* DONE (matchprobes)
* creating vignettes ... OK
* cleaning src
* removing junk files
* checking for LF line-endings in source files
* checking for empty or unneeded directories
* building 'matchprobes_1.4.0.tar.gz'