Back to the "Multiple platform build/check report"
| Package 3/172 | OS | Arch | BUILD | CHECK | BUILD BIN |
affxparser1.4.1James Bullard | Linux (SUSE 9.2) | x86_64 | OK | OK | |
| Linux (SUSE 9.2) | i686 | OK | OK | ||
| Solaris 2.9 | sparc | OK | OK | ||
| Linux (SUSE 10.0) | x86_64 | [ OK ] | OK | ||
| Windows Server 2003 | x86_64 | OK | OK | OK |
| Package: affxparser |
| Version: 1.4.1 |
| Command: /home/biocbuild/1.8d/R/bin/R CMD build affxparser |
| RetCode: 0 |
| Time: 1.5 seconds |
| Status: OK |
| PackageFile: affxparser_1.4.1.tar.gz |
* checking for file 'affxparser/DESCRIPTION' ... OK * preparing 'affxparser': * checking DESCRIPTION meta-information ... OK * cleaning src * removing junk files * checking for LF line-endings in source files * checking for empty or unneeded directories * building 'affxparser_1.4.1.tar.gz'